Workbook

Sheet PHÂN LOẠI
A1: BỘ GIÁO DỤC VÀ ĐÀO TẠO | J1: CỘNG HOÀ XÃ HỘI CHỦ NGHĨA VIỆT NAM
A2: TRƯỜNG ĐẠI HỌC CẦN THƠ | J2: Độc lập - Tự do - Hạnh phúc
A3: TỔ: GIÁO DỤC THỂ CHẤT | Z3: BẢNG ĐIỂM PHÂN LOẠI TRÌNH ĐỘ THỂ LỰC CHUYÊN MÔN
D4: BẢNG KIỂM TRA SỐ LIỆU LẦN 1 | Z4: CỦA CÁC VĐV NAM BÓNG CHUYỀN TRƯỜNG ĐHCT GIAI ĐOẠN BAN ĐẦU
D5: (Năm học: 2013 - 2014)
A6: STT | B6: Họ và Tên | D6: Năm sinh VĐV | E6: Chiều Cao (cm) | F6: NỘI DUNG KIỂM TRA | Z6: STT | AA6: Họ và Tên | AC6: ĐIỂM (Ban đầu) | AM6: TỔNG HỢP
F7: Chạy 30m XPC (giây) | H7: Bật cao tại chỗ (cm) | J7: Bật xa 3 bước liên tục (cm) | L7: Bật xa tại chỗ (cm) | N7: Chạy 12 phút (mét) | P7: Chạy cây thông (giây) | R7: Chạy con thoi 4x10m (giây) | T7: Đứng gập thân (cm) | V7: Chạy 9.3.6.3.9 (giây) | X7: Bóp lực kế tay thuận (kg) | AC7: Chạy 30m XPC (giây) | AD7: Bật cao tại chỗ (cm) | AE7: Bật xa 3 bước liên tục (cm) | AF7: Bật xa tại chỗ (cm) | AG7: Bóp lực kế tay thuận (kg) | AH7: Chạy cây thông (giây) | AI7: Chạy 9.3.6.3.9 (giây) | AJ7: Chạy 12 phút (mét) | AK7: Chạy con thoi 4x10m (giây) | AL7: Đứng gập thân (cm) | AM7: ĐIỂM | AN7: PHÂN LOẠI
F9: Lần 1 | G9: Điểm | H9: Lần 1 | I9: Điểm | J9: Lần 1 | K9: Điểm | L9: Lần 1 | M9: Điểm | N9: Lần 1 | O9: Điểm | P9: Lần 1 | Q9: Điểm | R9: Lần 1 | S9: Điểm | T9: Lần 1 | U9: Điểm | V9: Lần 1 | W9: Điểm | X9: Lần 1 | Y9: Điểm
A10: 1 | B10: Nguyễn vệ | C10: Thanh | D10: 1992 | E10: 183 | F10: ='SỐ LIỆU TỔNG HỢP'!E12 -> 4.45 | G10: =5-2*(F10-$F$26)/$F$27 -> 6.4639295 | H10: ='SỐ LIỆU TỔNG HỢP'!H12 -> 60 | I10: =5+2*(H10-$H$26)/$H$27 -> 5.2201187 | J10: ='SỐ LIỆU TỔNG HỢP'!K12 -> 7.51 | K10: =5+2*(J10-$J$26)/$J$27 -> 1.6553697 | L10: ='SỐ LIỆU TỔNG HỢP'!N12 -> 255 | M10: =5+2*(L10-$L$26)/$L$27 -> 1.7031846 | N10: ='SỐ LIỆU TỔNG HỢP'!Q12 -> 2875 | O10: =5+2*(N10-$N$26)/$N$27 -> 4.7904454 | P10: ='SỐ LIỆU TỔNG HỢP'!T12 -> 19.5 | Q10: =5-2*(P10-$P$26)/$P$27 -> 10.410382 | R10: ='SỐ LIỆU TỔNG HỢP'!W12 -> 8.35 | S10: =5-2*(R10-$R$26)/$R$27 -> 6.4662645 | T10: ='SỐ LIỆU TỔNG HỢP'!Z12 -> 16 | U10: =5+2*(T10-$T$26)/$T$27 -> 2.3921259 | V10: ='SỐ LIỆU TỔNG HỢP'!AC12 -> 5.9 | W10: =5-2*(V10-$V$26)/$V$27 -> 9.3452653 | X10: ='SỐ LIỆU TỔNG HỢP'!AF12 -> 57 | Y10: =5+2*(X10-$X$26)/$X$27 -> 4.8550351 | Z10: 1 | AA10: Nguyễn Vệ | AB10: Thanh | AC10: =G10 -> 6.4639295 | AD10: =I10 -> 5.2201187 | AE10: =K10 -> 1.6553697 | AF10: =M10 -> 1.7031846 | AG10: =Y10 -> 4.8550351 | AH10: =Q10 -> 10.410382 | AI10: =W10 -> 9.3452653 | AJ10: =O10 -> 4.7904454 | AK10: =S10 -> 6.4662645 | AL10: =U10 -> 2.3921259 | AM10: =SUM(AC10:AJ10) -> 44.44373 | AN10: TB
A11: 2 | B11: Nguyễn Chí | C11: Linh | D11: 1991 | E11: 175 | F11: ='SỐ LIỆU TỔNG HỢP'!E13 -> 4.48 | G11: =5-2*(F11-$F$26)/$F$27 -> 5.8734369 | H11: ='SỐ LIỆU TỔNG HỢP'!H13 -> 68 | I11: =5+2*(H11-$H$26)/$H$27 -> 9.9159832 | J11: ='SỐ LIỆU TỔNG HỢP'!K13 -> 8.05 | K11: =5+2*(J11-$J$26)/$J$27 -> 8.0727816 | L11: ='SỐ LIỆU TỔNG HỢP'!N13 -> 261 | M11: =5+2*(L11-$L$26)/$L$27 -> 3.4047668 | N11: ='SỐ LIỆU TỔNG HỢP'!Q13 -> 2833 | O11: =5+2*(N11-$N$26)/$N$27 -> 0.09642129 | P11: ='SỐ LIỆU TỔNG HỢP'!T13 -> 21.85 | Q11: =5-2*(P11-$P$26)/$P$27 -> 5.3936036 | R11: ='SỐ LIỆU TỔNG HỢP'!W13 -> 8.25 | S11: =5-2*(R11-$R$26)/$R$27 -> 6.9131261 | T11: ='SỐ LIỆU TỔNG HỢP'!Z13 -> 16 | U11: =5+2*(T11-$T$26)/$T$27 -> 2.3921259 | V11: ='SỐ LIỆU TỔNG HỢP'!AC13 -> 7.55 | W11: =5-2*(V11-$V$26)/$V$27 -> 3.4442877 | X11: ='SỐ LIỆU TỔNG HỢP'!AF13 -> 49 | Y11: =5+2*(X11-$X$26)/$X$27 -> 1.2166998 | Z11: 2 | AA11: Nguyễn Chí | AB11: Linh | AC11: =G11 -> 5.8734369 | AD11: =I11 -> 9.9159832 | AE11: =K11 -> 8.0727816 | AF11: =M11 -> 3.4047668 | AG11: =Y11 -> 1.2166998 | AH11: =Q11 -> 5.3936036 | AI11: =W11 -> 3.4442877 | AJ11: =O11 -> 0.09642129 | AK11: =S11 -> 6.9131261 | AL11: =U11 -> 2.3921259 | AM11: =SUM(AC11:AJ11) -> 37.417981 | AN11: TB
A12: 3 | B12: Phạm Vũ | C12: Linh | D12: 1993 | E12: 168 | F12: ='SỐ LIỆU TỔNG HỢP'!E14 -> 4.67 | G12: =5-2*(F12-$F$26)/$F$27 -> 2.1336507 | H12: ='SỐ LIỆU TỔNG HỢP'!H14 -> 59 | I12: =5+2*(H12-$H$26)/$H$27 -> 4.6331356 | J12: ='SỐ LIỆU TỔNG HỢP'!K14 -> 7.59 | K12: =5+2*(J12-$J$26)/$J$27 -> 2.6060974 | L12: ='SỐ LIỆU TỔNG HỢP'!N14 -> 268 | M12: =5+2*(L12-$L$26)/$L$27 -> 5.3899459 | N12: ='SỐ LIỆU TỔNG HỢP'!Q14 -> 2890 | O12: =5+2*(N12-$N$26)/$N$27 -> 6.4668825 | P12: ='SỐ LIỆU TỔNG HỢP'!T14 -> 22.9 | Q12: =5-2*(P12-$P$26)/$P$27 -> 3.1520644 | R12: ='SỐ LIỆU TỔNG HỢP'!W14 -> 9.05 | S12: =5-2*(R12-$R$26)/$R$27 -> 3.3382335 | T12: ='SỐ LIỆU TỔNG HỢP'!Z14 -> 16 | U12: =5+2*(T12-$T$26)/$T$27 -> 2.3921259 | V12: ='SỐ LIỆU TỔNG HỢP'!AC14 -> 7.62 | W12: =5-2*(V12-$V$26)/$V$27 -> 3.1939432 | X12: ='SỐ LIỆU TỔNG HỢP'!AF14 -> 51 | Y12: =5+2*(X12-$X$26)/$X$27 -> 2.1262837 | Z12: 3 | AA12: Phạm Vũ | AB12: Linh | AC12: =G12 -> 2.1336507 | AD12: =I12 -> 4.6331356 | AE12: =K12 -> 2.6060974 | AF12: =M12 -> 5.3899459 | AG12: ` | AH12: =Q12 -> 3.1520644 | AI12: =W12 -> 3.1939432 | AJ12: =O12 -> 6.4668825 | AK12: =S12 -> 3.3382335 | AL12: =U12 -> 2.3921259 | AM12: =SUM(AC12:AJ12) -> 27.57572 | AN12: YẾU
A13: 4 | B13: Nguyễn Minh | C13: Luân | D13: 1990 | E13: 180 | F13: ='SỐ LIỆU TỔNG HỢP'!E15 -> 4.39 | G13: =5-2*(F13-$F$26)/$F$27 -> 7.6449146 | H13: ='SỐ LIỆU TỔNG HỢP'!H15 -> 60 | I13: =5+2*(H13-$H$26)/$H$27 -> 5.2201187 | J13: ='SỐ LIỆU TỔNG HỢP'!K15 -> 7.81 | K13: =5+2*(J13-$J$26)/$J$27 -> 5.2205985 | L13: ='SỐ LIỆU TỔNG HỢP'!N15 -> 265 | M13: =5+2*(L13-$L$26)/$L$27 -> 4.5391548 | N13: ='SỐ LIỆU TỔNG HỢP'!Q15 -> 2899 | O13: =5+2*(N13-$N$26)/$N$27 -> 7.4727448 | P13: ='SỐ LIỆU TỔNG HỢP'!T15 -> 20.7 | Q13: =5-2*(P13-$P$26)/$P$27 -> 7.8486228 | R13: ='SỐ LIỆU TỔNG HỢP'!W15 -> 8.9 | S13: =5-2*(R13-$R$26)/$R$27 -> 4.0085259 | T13: ='SỐ LIỆU TỔNG HỢP'!Z15 -> 18 | U13: =5+2*(T13-$T$26)/$T$27 -> 6.1011024 | V13: ='SỐ LIỆU TỔNG HỢP'!AC15 -> 7.3 | W13: =5-2*(V13-$V$26)/$V$27 -> 4.3383752 | X13: ='SỐ LIỆU TỔNG HỢP'!AF15 -> 66 | Y13: =5+2*(X13-$X$26)/$X$27 -> 8.9481622 | Z13: 4 | AA13: Nguyễn Minh | AB13: Luân | AC13: =G13 -> 7.6449146 | AD13: =I13 -> 5.2201187 | AE13: =K13 -> 5.2205985 | AF13: =M13 -> 4.5391548 | AG13: =Y13 -> 8.9481622 | AH13: =Q13 -> 7.8486228 | AI13: =W13 -> 4.3383752 | AJ13: =O13 -> 7.4727448 | AK13: =S13 -> 4.0085259 | AL13: =U13 -> 6.1011024 | AM13: =SUM(AC13:AJ13) -> 51.232692 | AN13: KHÁ
A14: 5 | B14: Lý Thanh | C14: Hải | D14: 1994 | E14: 182 | F14: ='SỐ LIỆU TỔNG HỢP'!E16 -> 4.45 | G14: =5-2*(F14-$F$26)/$F$27 -> 6.4639295 | H14: ='SỐ LIỆU TỔNG HỢP'!H16 -> 62 | I14: =5+2*(H14-$H$26)/$H$27 -> 6.3940848 | J14: ='SỐ LIỆU TỔNG HỢP'!K16 -> 7.56 | K14: =5+2*(J14-$J$26)/$J$27 -> 2.2495745 | L14: ='SỐ LIỆU TỔNG HỢP'!N16 -> 261 | M14: =5+2*(L14-$L$26)/$L$27 -> 3.4047668 | N14: ='SỐ LIỆU TỔNG HỢP'!Q16 -> 2870 | O14: =5+2*(N14-$N$26)/$N$27 -> 4.231633 | P14: ='SỐ LIỆU TỔNG HỢP'!T16 -> 21.35 | Q14: =5-2*(P14-$P$26)/$P$27 -> 6.4610032 | R14: ='SỐ LIỆU TỔNG HỢP'!W16 -> 8.6 | S14: =5-2*(R14-$R$26)/$R$27 -> 5.3491106 | T14: ='SỐ LIỆU TỔNG HỢP'!Z16 -> 18 | U14: =5+2*(T14-$T$26)/$T$27 -> 6.1011024 | V14: ='SỐ LIỆU TỔNG HỢP'!AC16 -> 7.89 | W14: =5-2*(V14-$V$26)/$V$27 -> 2.2283287 | X14: ='SỐ LIỆU TỔNG HỢP'!AF16 -> 64 | Y14: =5+2*(X14-$X$26)/$X$27 -> 8.0385784 | Z14: 5 | AA14: Lý Thanh | AB14: Hải | AC14: =G14 -> 6.4639295 | AD14: =I14 -> 6.3940848 | AE14: =K14 -> 2.2495745 | AF14: =M14 -> 3.4047668 | AG14: =Y14 -> 8.0385784 | AH14: =Q14 -> 6.4610032 | AI14: =W14 -> 2.2283287 | AJ14: =O14 -> 4.231633 | AK14: =S14 -> 5.3491106 | AL14: =U14 -> 6.1011024 | AM14: =SUM(AC14:AJ14) -> 39.471899 | AN14: TB
A15: 6 | B15: Tăng Linh | C15: Tâm | D15: 1992 | E15: 179 | F15: ='SỐ LIỆU TỔNG HỢP'!E17 -> 4.43 | G15: =5-2*(F15-$F$26)/$F$27 -> 6.8575912 | H15: ='SỐ LIỆU TỔNG HỢP'!H17 -> 55 | I15: =5+2*(H15-$H$26)/$H$27 -> 2.2852033 | J15: ='SỐ LIỆU TỔNG HỢP'!K17 -> 7.823 | K15: =5+2*(J15-$J$26)/$J$27 -> 5.3750918 | L15: ='SỐ LIỆU TỔNG HỢP'!N17 -> 275 | M15: =5+2*(L15-$L$26)/$L$27 -> 7.375125 | N15: ='SỐ LIỆU TỔNG HỢP'!Q17 -> 2863 | O15: =5+2*(N15-$N$26)/$N$27 -> 3.4492956 | P15: ='SỐ LIỆU TỔNG HỢP'!T17 -> 22.7 | Q15: =5-2*(P15-$P$26)/$P$27 -> 3.5790242 | R15: ='SỐ LIỆU TỔNG HỢP'!W17 -> 9.1 | S15: =5-2*(R15-$R$26)/$R$27 -> 3.1148028 | T15: ='SỐ LIỆU TỔNG HỢP'!Z17 -> 16 | U15: =5+2*(T15-$T$26)/$T$27 -> 2.3921259 | V15: ='SỐ LIỆU TỔNG HỢP'!AC17 -> 6.26 | W15: =5-2*(V15-$V$26)/$V$27 -> 8.0577793 | X15: ='SỐ LIỆU TỔNG HỢP'!AF17 -> 57.4 | Y15: =5+2*(X15-$X$26)/$X$27 -> 5.0369518 | Z15: 6 | AA15: Tăng Linh | AB15: Tâm | AC15: =G15 -> 6.8575912 | AD15: =I15 -> 2.2852033 | AE15: =K15 -> 5.3750918 | AF15: =M15 -> 7.375125 | AG15: =Y15 -> 5.0369518 | AH15: =Q15 -> 3.5790242 | AI15: =W15 -> 8.0577793 | AJ15: =O15 -> 3.4492956 | AK15: =S15 -> 3.1148028 | AL15: =U15 -> 2.3921259 | AM15: =SUM(AC15:AJ15) -> 42.016062 | AN15: TB
A16: 7 | B16: Nguyễn Duy | C16: Khang | D16: 1993 | E16: 177 | F16: ='SỐ LIỆU TỔNG HỢP'!E18 -> 4.53 | G16: =5-2*(F16-$F$26)/$F$27 -> 4.8892826 | H16: ='SỐ LIỆU TỔNG HỢP'!H18 -> 55 | I16: =5+2*(H16-$H$26)/$H$27 -> 2.2852033 | J16: ='SỐ LIỆU TỔNG HỢP'!K18 -> 8.06 | K16: =5+2*(J16-$J$26)/$J$27 -> 8.1916225 | L16: ='SỐ LIỆU TỔNG HỢP'!N18 -> 270 | M16: =5+2*(L16-$L$26)/$L$27 -> 5.9571399 | N16: ='SỐ LIỆU TỔNG HỢP'!Q18 -> 2895 | O16: =5+2*(N16-$N$26)/$N$27 -> 7.0256949 | P16: ='SỐ LIỆU TỔNG HỢP'!T18 -> 23.3 | Q16: =5-2*(P16-$P$26)/$P$27 -> 2.2981447 | R16: ='SỐ LIỆU TỔNG HỢP'!W18 -> 8.58 | S16: =5-2*(R16-$R$26)/$R$27 -> 5.4384829 | T16: ='SỐ LIỆU TỔNG HỢP'!Z18 -> 17 | U16: =5+2*(T16-$T$26)/$T$27 -> 4.2466141 | V16: ='SỐ LIỆU TỔNG HỢP'!AC18 -> 7.55 | W16: =5-2*(V16-$V$26)/$V$27 -> 3.4442877 | X16: ='SỐ LIỆU TỔNG HỢP'!AF18 -> 57 | Y16: =5+2*(X16-$X$26)/$X$27 -> 4.8550351 | Z16: 7 | AA16: Nguyễn Duy | AB16: Khang | AC16: =G16 -> 4.8892826 | AD16: =I16 -> 2.2852033 | AE16: =K16 -> 8.1916225 | AF16: =M16 -> 5.9571399 | AG16: =Y16 -> 4.8550351 | AH16: =Q16 -> 2.2981447 | AI16: =W16 -> 3.4442877 | AJ16: =O16 -> 7.0256949 | AK16: =S16 -> 5.4384829 | AL16: =U16 -> 4.2466141 | AM16: =SUM(AC16:AJ16) -> 38.946411 | AN16: TB
A17: 8 | B17: Huỳnh Công | C17: Quý | D17: 1994 | E17: 177 | F17: ='SỐ LIỆU TỔNG HỢP'!E19 -> 4.75 | G17: =5-2*(F17-$F$26)/$F$27 -> 0.55900381 | H17: ='SỐ LIỆU TỔNG HỢP'!H19 -> 60 | I17: =5+2*(H17-$H$26)/$H$27 -> 5.2201187 | J17: ='SỐ LIỆU TỔNG HỢP'!K19 -> 7.79 | K17: =5+2*(J17-$J$26)/$J$27 -> 4.9829166 | L17: ='SỐ LIỆU TỔNG HỢP'!N19 -> 280 | M17: =5+2*(L17-$L$26)/$L$27 -> 8.7931101 | N17: ='SỐ LIỆU TỔNG HỢP'!Q19 -> 2910 | O17: =5+2*(N17-$N$26)/$N$27 -> 8.7021321 | P17: ='SỐ LIỆU TỔNG HỢP'!T19 -> 23.45 | Q17: =5-2*(P17-$P$26)/$P$27 -> 1.9779248 | R17: ='SỐ LIỆU TỔNG HỢP'!W19 -> 9.25 | S17: =5-2*(R17-$R$26)/$R$27 -> 2.4445104 | T17: ='SỐ LIỆU TỔNG HỢP'!Z19 -> 18 | U17: =5+2*(T17-$T$26)/$T$27 -> 6.1011024 | V17: ='SỐ LIỆU TỔNG HỢP'!AC19 -> 7.56 | W17: =5-2*(V17-$V$26)/$V$27 -> 3.4085242 | X17: ='SỐ LIỆU TỔNG HỢP'!AF19 -> 58 | Y17: =5+2*(X17-$X$26)/$X$27 -> 5.309827 | Z17: 8 | AA17: Huỳnh Công | AB17: Quý | AC17: =G17 -> 0.55900381 | AD17: =I17 -> 5.2201187 | AE17: =K17 -> 4.9829166 | AF17: =M17 -> 8.7931101 | AG17: =Y17 -> 5.309827 | AH17: =Q17 -> 1.9779248 | AI17: =W17 -> 3.4085242 | AJ17: =O17 -> 8.7021321 | AK17: =S17 -> 2.4445104 | AL17: =U17 -> 6.1011024 | AM17: =SUM(AC17:AJ17) -> 38.953557 | AN17: YẾU
A18: 9 | B18: Trịnh Nguyễn | C18: Tính | D18: 1992 | E18: 180 | F18: ='SỐ LIỆU TỔNG HỢP'!E20 -> 4.35 | G18: =5-2*(F18-$F$26)/$F$27 -> 8.432238 | H18: ='SỐ LIỆU TỔNG HỢP'!H20 -> 64 | I18: =5+2*(H18-$H$26)/$H$27 -> 7.5680509 | J18: ='SỐ LIỆU TỔNG HỢP'!K20 -> 7.91 | K18: =5+2*(J18-$J$26)/$J$27 -> 6.4090081 | L18: ='SỐ LIỆU TỔNG HỢP'!N20 -> 280 | M18: =5+2*(L18-$L$26)/$L$27 -> 8.7931101 | N18: ='SỐ LIỆU TỔNG HỢP'!Q20 -> 2867 | O18: =5+2*(N18-$N$26)/$N$27 -> 3.8963455 | P18: ='SỐ LIỆU TỔNG HỢP'!T20 -> 22.61 | Q18: =5-2*(P18-$P$26)/$P$27 -> 3.7711562 | R18: ='SỐ LIỆU TỔNG HỢP'!W20 -> 9.89 | S18: =5-2*(R18-$R$26)/$R$27 -> -0.41540364 | T18: ='SỐ LIỆU TỔNG HỢP'!Z20 -> 17 | U18: =5+2*(T18-$T$26)/$T$27 -> 4.2466141 | V18: ='SỐ LIỆU TỔNG HỢP'!AC20 -> 7.35 | W18: =5-2*(V18-$V$26)/$V$27 -> 4.1595577 | X18: ='SỐ LIỆU TỔNG HỢP'!AF20 -> 52 | Y18: =5+2*(X18-$X$26)/$X$27 -> 2.5810756 | Z18: 9 | AA18: Trịnh Nguyễn | AB18: Tính | AC18: =G18 -> 8.432238 | AD18: =I18 -> 7.5680509 | AE18: =K18 -> 6.4090081 | AF18: =M18 -> 8.7931101 | AG18: =Y18 -> 2.5810756 | AH18: =Q18 -> 3.7711562 | AI18: =W18 -> 4.1595577 | AJ18: =O18 -> 3.8963455 | AK18: =S18 -> -0.41540364 | AL18: =U18 -> 4.2466141 | AM18: =SUM(AC18:AJ18) -> 45.610542 | AN18: TB
A19: 10 | B19: Huỳnh Văn | C19: Hùng | D19: 1990 | E19: 176 | F19: ='SỐ LIỆU TỔNG HỢP'!E21 -> 4.65 | G19: =5-2*(F19-$F$26)/$F$27 -> 2.5273124 | H19: ='SỐ LIỆU TỔNG HỢP'!H21 -> 58 | I19: =5+2*(H19-$H$26)/$H$27 -> 4.0461525 | J19: ='SỐ LIỆU TỔNG HỢP'!K21 -> 7.97 | K19: =5+2*(J19-$J$26)/$J$27 -> 7.1220539 | L19: ='SỐ LIỆU TỔNG HỢP'!N21 -> 264 | M19: =5+2*(L19-$L$26)/$L$27 -> 4.2555578 | N19: ='SỐ LIỆU TỔNG HỢP'!Q21 -> 2863 | O19: =5+2*(N19-$N$26)/$N$27 -> 3.4492956 | P19: ='SỐ LIỆU TỔNG HỢP'!T21 -> 21.89 | Q19: =5-2*(P19-$P$26)/$P$27 -> 5.3082116 | R19: ='SỐ LIỆU TỔNG HỢP'!W21 -> 8.57 | S19: =5-2*(R19-$R$26)/$R$27 -> 5.4831691 | T19: ='SỐ LIỆU TỔNG HỢP'!Z21 -> 17 | U19: =5+2*(T19-$T$26)/$T$27 -> 4.2466141 | V19: ='SỐ LIỆU TỔNG HỢP'!AC21 -> 6.45 | W19: =5-2*(V19-$V$26)/$V$27 -> 7.3782728 | X19: ='SỐ LIỆU TỔNG HỢP'!AF21 -> 56 | Y19: =5+2*(X19-$X$26)/$X$27 -> 4.4002432 | Z19: 10 | AA19: Huỳnh Văn | AB19: Hùng | AC19: =G19 -> 2.5273124 | AD19: =I19 -> 4.0461525 | AE19: =K19 -> 7.1220539 | AF19: =M19 -> 4.2555578 | AG19: =Y19 -> 4.4002432 | AH19: =Q19 -> 5.3082116 | AI19: =W19 -> 7.3782728 | AJ19: =O19 -> 3.4492956 | AK19: =S19 -> 5.4831691 | AL19: =U19 -> 4.2466141 | AM19: =SUM(AC19:AJ19) -> 38.4871 | AN19: TB
A20: 11 | B20: Phạm Quốc | C20: Dương | D20: 1990 | E20: 180 | F20: ='SỐ LIỆU TỔNG HỢP'!E22 -> 4.51 | G20: =5-2*(F20-$F$26)/$F$27 -> 5.2829444 | H20: ='SỐ LIỆU TỔNG HỢP'!H22 -> 56 | I20: =5+2*(H20-$H$26)/$H$27 -> 2.8721864 | J20: ='SỐ LIỆU TỔNG HỢP'!K22 -> 7.8 | K20: =5+2*(J20-$J$26)/$J$27 -> 5.1017576 | L20: ='SỐ LIỆU TỔNG HỢP'!N22 -> 268 | M20: =5+2*(L20-$L$26)/$L$27 -> 5.3899459 | N20: ='SỐ LIỆU TỔNG HỢP'!Q22 -> 2873 | O20: =5+2*(N20-$N$26)/$N$27 -> 4.5669204 | P20: ='SỐ LIỆU TỔNG HỢP'!T22 -> 21.85 | Q20: =5-2*(P20-$P$26)/$P$27 -> 5.3936036 | R20: ='SỐ LIỆU TỔNG HỢP'!W22 -> 8.38 | S20: =5-2*(R20-$R$26)/$R$27 -> 6.3322061 | T20: ='SỐ LIỆU TỔNG HỢP'!Z22 -> 19 | U20: =5+2*(T20-$T$26)/$T$27 -> 7.9555907 | V20: ='SỐ LIỆU TỔNG HỢP'!AC22 -> 6.51 | W20: =5-2*(V20-$V$26)/$V$27 -> 7.1636918 | X20: ='SỐ LIỆU TỔNG HỢP'!AF22 -> 55 | Y20: =5+2*(X20-$X$26)/$X$27 -> 3.9454513 | Z20: 11 | AA20: Phạm Quốc | AB20: Dương | AC20: =G20 -> 5.2829444 | AD20: =I20 -> 2.8721864 | AE20: =K20 -> 5.1017576 | AF20: =M20 -> 5.3899459 | AG20: =Y20 -> 3.9454513 | AH20: =Q20 -> 5.3936036 | AI20: =W20 -> 7.1636918 | AJ20: =O20 -> 4.5669204 | AK20: =S20 -> 6.3322061 | AL20: =U20 -> 7.9555907 | AM20: =SUM(AC20:AJ20) -> 39.716501 | AN20: TB
A21: 12 | B21: Tăng Linh | C21: Tâm | D21: 1991 | E21: 179 | F21: ='SỐ LIỆU TỔNG HỢP'!E23 -> 4.53 | G21: =5-2*(F21-$F$26)/$F$27 -> 4.8892826 | H21: ='SỐ LIỆU TỔNG HỢP'!H23 -> 60 | I21: =5+2*(H21-$H$26)/$H$27 -> 5.2201187 | J21: ='SỐ LIỆU TỔNG HỢP'!K23 -> 7.85 | K21: =5+2*(J21-$J$26)/$J$27 -> 5.6959624 | L21: ='SỐ LIỆU TỔNG HỢP'!N23 -> 270 | M21: =5+2*(L21-$L$26)/$L$27 -> 5.9571399 | N21: ='SỐ LIỆU TỔNG HỢP'!Q23 -> 2880 | O21: =5+2*(N21-$N$26)/$N$27 -> 5.3492577 | P21: ='SỐ LIỆU TỔNG HỢP'!T23 -> 22.07 | Q21: =5-2*(P21-$P$26)/$P$27 -> 4.9239478 | R21: ='SỐ LIỆU TỔNG HỢP'!W23 -> 8.58 | S21: =5-2*(R21-$R$26)/$R$27 -> 5.4384829 | T21: ='SỐ LIỆU TỔNG HỢP'!Z23 -> 19 | U21: =5+2*(T21-$T$26)/$T$27 -> 7.9555907 | V21: ='SỐ LIỆU TỔNG HỢP'!AC23 -> 7.52 | W21: =5-2*(V21-$V$26)/$V$27 -> 3.5515782 | X21: ='SỐ LIỆU TỔNG HỢP'!AF23 -> 60.5 | Y21: =5+2*(X21-$X$26)/$X$27 -> 6.4468067 | Z21: 12 | AA21: Tăng Linh | AB21: Tâm | AC21: =G21 -> 4.8892826 | AD21: =I21 -> 5.2201187 | AE21: =K21 -> 5.6959624 | AF21: =M21 -> 5.9571399 | AG21: =Y21 -> 6.4468067 | AH21: =Q21 -> 4.9239478 | AI21: =W21 -> 3.5515782 | AJ21: =O21 -> 5.3492577 | AK21: =S21 -> 5.4384829 | AL21: =U21 -> 7.9555907 | AM21: =SUM(AC21:AJ21) -> 42.034094 | AN21: TB
A22: 13 | B22: Trần Phú | C22: Lộc | D22: 1992 | E22: 174 | F22: ='SỐ LIỆU TỔNG HỢP'!E24 -> 4.57 | G22: =5-2*(F22-$F$26)/$F$27 -> 4.1019592 | H22: ='SỐ LIỆU TỔNG HỢP'!H24 -> 62 | I22: =5+2*(H22-$H$26)/$H$27 -> 6.3940848 | J22: ='SỐ LIỆU TỔNG HỢP'!K24 -> 7.63 | K22: =5+2*(J22-$J$26)/$J$27 -> 3.0814613 | L22: ='SỐ LIỆU TỔNG HỢP'!N24 -> 263 | M22: =5+2*(L22-$L$26)/$L$27 -> 3.9719608 | N22: ='SỐ LIỆU TỔNG HỢP'!Q24 -> 2865 | O22: =5+2*(N22-$N$26)/$N$27 -> 3.6728206 | P22: ='SỐ LIỆU TỔNG HỢP'!T24 -> 22 | Q22: =5-2*(P22-$P$26)/$P$27 -> 5.0733837 | R22: ='SỐ LIỆU TỔNG HỢP'!W24 -> 8.48 | S22: =5-2*(R22-$R$26)/$R$27 -> 5.8853445 | T22: ='SỐ LIỆU TỔNG HỢP'!Z24 -> 19 | U22: =5+2*(T22-$T$26)/$T$27 -> 7.9555907 | V22: ='SỐ LIỆU TỔNG HỢP'!AC24 -> 7.22 | W22: =5-2*(V22-$V$26)/$V$27 -> 4.6244832 | X22: ='SỐ LIỆU TỔNG HỢP'!AF24 -> 61.2 | Y22: =5+2*(X22-$X$26)/$X$27 -> 6.7651611 | Z22: 13 | AA22: Trần Phú | AB22: Lộc | AC22: =G22 -> 4.1019592 | AD22: =I22 -> 6.3940848 | AE22: =K22 -> 3.0814613 | AF22: =M22 -> 3.9719608 | AG22: =Y22 -> 6.7651611 | AH22: =Q22 -> 5.0733837 | AI22: =W22 -> 4.6244832 | AJ22: =O22 -> 3.6728206 | AK22: =S22 -> 5.8853445 | AL22: =U22 -> 7.9555907 | AM22: =SUM(AC22:AJ22) -> 37.685315 | AN22: TB
A23: 14 | B23: Lê Chí | C23: Công | D23: 1993 | E23: 174 | F23: ='SỐ LIỆU TỔNG HỢP'!E25 -> 4.59 | G23: =5-2*(F23-$F$26)/$F$27 -> 3.7082975 | H23: ='SỐ LIỆU TỔNG HỢP'!H25 -> 57 | I23: =5+2*(H23-$H$26)/$H$27 -> 3.4591694 | J23: ='SỐ LIỆU TỔNG HỢP'!K25 -> 7.8 | K23: =5+2*(J23-$J$26)/$J$27 -> 5.1017576 | L23: ='SỐ LIỆU TỔNG HỢP'!N25 -> 260 | M23: =5+2*(L23-$L$26)/$L$27 -> 3.1211697 | N23: ='SỐ LIỆU TỔNG HỢP'!Q25 -> 2875 | O23: =5+2*(N23-$N$26)/$N$27 -> 4.7904454 | P23: ='SỐ LIỆU TỔNG HỢP'!T25 -> 21.91 | Q23: =5-2*(P23-$P$26)/$P$27 -> 5.2655157 | R23: ='SỐ LIỆU TỔNG HỢP'!W25 -> 8.46 | S23: =5-2*(R23-$R$26)/$R$27 -> 5.9747168 | T23: ='SỐ LIỆU TỔNG HỢP'!Z25 -> 18 | U23: =5+2*(T23-$T$26)/$T$27 -> 6.1011024 | V23: ='SỐ LIỆU TỔNG HỢP'!AC25 -> 7.48 | W23: =5-2*(V23-$V$26)/$V$27 -> 3.6946322 | X23: ='SỐ LIỆU TỔNG HỢP'!AF25 -> 55 | Y23: =5+2*(X23-$X$26)/$X$27 -> 3.9454513 | Z23: 14 | AA23: Lê Chí | AB23: Công | AC23: =G23 -> 3.7082975 | AD23: =I23 -> 3.4591694 | AE23: =K23 -> 5.1017576 | AF23: =M23 -> 3.1211697 | AG23: =Y23 -> 3.9454513 | AH23: =Q23 -> 5.2655157 | AI23: =W23 -> 3.6946322 | AJ23: =O23 -> 4.7904454 | AK23: =S23 -> 5.9747168 | AL23: =U23 -> 6.1011024 | AM23: =SUM(AC23:AJ23) -> 33.086439 | AN23: TB
A24: 15 | B24: Nguyễn Công | C24: Ngoan | D24: 1992 | E24: 170 | F24: ='SỐ LIỆU TỔNG HỢP'!E26 -> 4.51 | G24: =5-2*(F24-$F$26)/$F$27 -> 5.2829444 | H24: ='SỐ LIỆU TỔNG HỢP'!H26 -> 56 | I24: =5+2*(H24-$H$26)/$H$27 -> 2.8721864 | J24: ='SỐ LIỆU TỔNG HỢP'!K26 -> 7.58 | K24: =5+2*(J24-$J$26)/$J$27 -> 2.4872565 | L24: ='SỐ LIỆU TỔNG HỢP'!N26 -> 258 | M24: =5+2*(L24-$L$26)/$L$27 -> 2.5539757 | N24: ='SỐ LIỆU TỔNG HỢP'!Q26 -> 2875 | O24: =5+2*(N24-$N$26)/$N$27 -> 4.7904454 | P24: ='SỐ LIỆU TỔNG HỢP'!T26 -> 22.4 | Q24: =5-2*(P24-$P$26)/$P$27 -> 4.219464 | R24: ='SỐ LIỆU TỔNG HỢP'!W26 -> 7.99 | S24: =5-2*(R24-$R$26)/$R$27 -> 8.0749662 | T24: ='SỐ LIỆU TỔNG HỢP'!Z26 -> 16.5 | U24: =5+2*(T24-$T$26)/$T$27 -> 3.31937 | V24: ='SỐ LIỆU TỔNG HỢP'!AC26 -> 6.9 | W24: =5-2*(V24-$V$26)/$V$27 -> 5.7689153 | X24: ='SỐ LIỆU TỔNG HỢP'!AF26 -> 57 | Y24: =5+2*(X24-$X$26)/$X$27 -> 4.8550351 | Z24: 15 | AA24: Nguyễn Công | AB24: Ngoan | AC24: =G24 -> 5.2829444 | AD24: =I24 -> 2.8721864 | AE24: =K24 -> 2.4872565 | AF24: =M24 -> 2.5539757 | AG24: =Y24 -> 4.8550351 | AH24: =Q24 -> 4.219464 | AI24: =W24 -> 5.7689153 | AJ24: =O24 -> 4.7904454 | AK24: =S24 -> 8.0749662 | AL24: =U24 -> 3.31937 | AM24: =SUM(AC24:AJ24) -> 32.830223 | AN24: TB
A25: 16 | B25: Trần Thanh | C25: Sơn | D25: 1992 | E25: 171 | F25: ='SỐ LIỆU TỔNG HỢP'!E27 -> 4.53 | G25: =5-2*(F25-$F$26)/$F$27 -> 4.8892826 | H25: ='SỐ LIỆU TỔNG HỢP'!H27 -> 62 | I25: =5+2*(H25-$H$26)/$H$27 -> 6.3940848 | J25: ='SỐ LIỆU TỔNG HỢP'!K27 -> 7.93 | K25: =5+2*(J25-$J$26)/$J$27 -> 6.64669 | L25: ='SỐ LIỆU TỔNG HỢP'!N27 -> 268 | M25: =5+2*(L25-$L$26)/$L$27 -> 5.3899459 | N25: ='SỐ LIỆU TỔNG HỢP'!Q27 -> 2897 | O25: =5+2*(N25-$N$26)/$N$27 -> 7.2492199 | P25: ='SỐ LIỆU TỔNG HỢP'!T27 -> 22.07 | Q25: =5-2*(P25-$P$26)/$P$27 -> 4.9239478 | R25: ='SỐ LIỆU TỔNG HỢP'!W27 -> 8.42 | S25: =5-2*(R25-$R$26)/$R$27 -> 6.1534614 | T25: ='SỐ LIỆU TỔNG HỢP'!Z27 -> 18 | U25: =5+2*(T25-$T$26)/$T$27 -> 6.1011024 | V25: ='SỐ LIỆU TỔNG HỢP'!AC27 -> 6.78 | W25: =5-2*(V25-$V$26)/$V$27 -> 6.1980773 | X25: ='SỐ LIỆU TỔNG HỢP'!AF27 -> 61 | Y25: =5+2*(X25-$X$26)/$X$27 -> 6.6742027 | Z25: 16 | AA25: Trần Thanh | AB25: Sơn | AC25: =G25 -> 4.8892826 | AD25: =I25 -> 6.3940848 | AE25: =K25 -> 6.64669 | AF25: =M25 -> 5.3899459 | AG25: =Y25 -> 6.6742027 | AH25: =Q25 -> 4.9239478 | AI25: =W25 -> 6.1980773 | AJ25: =O25 -> 7.2492199 | AK25: =S25 -> 6.1534614 | AL25: =U25 -> 6.1011024 | AM25: =SUM(AC25:AJ25) -> 48.365451 | AN25: KHÁ
B26: Giá trị trung bình | F26: =AVERAGE(F10:F25) -> 4.524375 | H26: =AVERAGE(H10:H25) -> 59.625 | J26: =AVERAGE(J10:J25) -> 7.7914375 | L26: =AVERAGE(L10:L25) -> 266.625 | N26: =AVERAGE(N10:N25) -> 2876.875 | P26: =AVERAGE(P10:P25) -> 22.034375 | R26: =AVERAGE(R10:R25) -> 8.678125 | T26: =AVERAGE(T10:T25) -> 17.40625 | V26: =AVERAGE(V10:V25) -> 7.115 | X26: =AVERAGE(X10:X25) -> 57.31875
B27: Độ lệch chuẩn | F27: =STDEVP(F10:F25) -> 0.10161009 | H27: =STDEVP(H10:H25) -> 3.4072533 | J27: =STDEVP(J10:J25) -> 0.16829215 | L27: =STDEVP(L10:L25) -> 7.0522603 | N27: =STDEVP(N10:N25) -> 17.895094 | P27: =STDEVP(P10:P25) -> 0.93685624 | R27: =STDEVP(R10:R25) -> 0.4475659 | T27: =STDEVP(T10:T25) -> 1.0784646 | V27: =STDEVP(V10:V25) -> 0.55922938 | X27: =STDEVP(X10:X25) -> 4.3976157
Z28: BẢNG ĐIỂM PHÂN LOẠI TRÌNH ĐỘ THỂ LỰC CHUYÊN MÔN
Z29: CỦA CÁC VĐV NAM BÓNG CHUYỀN TRƯỜNG ĐHCT SAU 1 NĂM TẬP LUYỆN
A31: STT | B31: Họ và | C31: Tên | D31: Năm sinh VĐV | E31: Chiều Cao (cm) | F31: NỘI DUNG KIỂM TRA | Z31: STT | AA31: Họ và Tên | AC31: ĐIỂM (Sau 1 năm tập luyện) | AM31: TỔNG HỢP
F32: Chạy 30m XPC (giây) | H32: Bật cao tại chỗ (cm) | J32: Bật xa 3 bước không đà (cm) | L32: Bật xa tại chỗ (cm) | N32: Chạy 12 phút (mét) | P32: Chạy cây thông (giây) | R32: Chạy con thoi 4x10m (giây) | T32: Đứng gập thân (cm) | V32: Chạy 9.3.6.3.9 (giây) | X32: Bóp lực kế tay thuận (kg) | AC32: Chạy 30m XPC (giây) | AD32: Bật cao tại chỗ (cm) | AE32: Bật xa 3 bước liên tục (cm) | AF32: Bật xa tại chỗ (cm) | AG32: Bóp lực kế tay thuận (kg) | AH32: Chạy cây thông (giây) | AI32: Chạy 9.3.6.3.9 (giây) | AJ32: Chạy 12 phút (mét) | AK32: Chạy con thoi 4x10m (giây) | AL32: Đứng gập thân (cm) | AM32: ĐIỂM | AN32: PHÂN LOẠI
F34: Lần 2 | G34: Điểm | H34: Lần 2 | I34: Điểm | J34: Lần 2 | K34: Điểm | L34: Lần 2 | M34: Điểm | N34: Lần 2 | O34: Điểm | P34: Lần 2 | Q34: Điểm | R34: Lần 2 | S34: Điểm | T34: Lần 2 | U34: Điểm | V34: Lần 2 | W34: Điểm | X34: Lần 2 | Y34: Điểm
A35: 1 | B35: Nguyễn Vệ | C35: Thanh | D35: 1992 | E35: 183 | F35: ='SỐ LIỆU TỔNG HỢP'!F12 -> 4.12 | G35: =5-2*(F35-$F$51)/$F$52 -> 6.638429 | H35: ='SỐ LIỆU TỔNG HỢP'!I12 -> 67 | I35: =5+2*(H35-$H$51)/$H$52 -> 4.9429966 | J35: ='SỐ LIỆU TỔNG HỢP'!L12 -> 8.17 | K35: =5+2*(J35-$J$51)/$J$52 -> 1.5037207 | L35: ='SỐ LIỆU TỔNG HỢP'!O12 -> 274 | M35: =5+2*(L35-$L$51)/$L$52 -> 2.6677233 | N35: ='SỐ LIỆU TỔNG HỢP'!R12 -> 2962 | O35: =5+2*(N35-$N$51)/$N$52 -> 5.3161951 | P35: ='SỐ LIỆU TỔNG HỢP'!U12 -> 19.21 | Q35: =5-2*(P35-$P$51)/$P$52 -> 10.184795 | R35: ='SỐ LIỆU TỔNG HỢP'!X12 -> 8.11 | S35: =5-2*(R35-$R$51)/$R$52 -> 6.0965785 | T35: ='SỐ LIỆU TỔNG HỢP'!AA12 -> 22 | U35: =5+(2*(T35-$T$51))/$T$52 -> 2.1533715 | V35: ='SỐ LIỆU TỔNG HỢP'!AD12 -> 5.8 | W35: =5-2*(V35-$V$51)/$V$52 -> 8.9489875 | X35: ='SỐ LIỆU TỔNG HỢP'!AG12 -> 69.1 | Y35: =5+2*(X35-$X$51)/$X$52 -> 5.907281 | Z35: 1 | AA35: Nguyễn vệ | AB35: Thanh | AC35: =G35 -> 6.638429 | AD35: =I35 -> 4.9429966 | AE35: =K35 -> 1.5037207 | AF35: =M35 -> 2.6677233 | AG35: =Y35 -> 5.907281 | AH35: =Q35 -> 10.184795 | AI35: =W35 -> 8.9489875 | AJ35: =O35 -> 5.3161951 | AK35: =S35 -> 6.0965785 | AL35: =U35 -> 2.1533715 | AM35: =SUM(AC35:AJ35) -> 46.110128 | AN35: TB
A36: 2 | B36: Nguyễn Chí | C36: Linh | D36: 1991 | E36: 175 | F36: ='SỐ LIỆU TỔNG HỢP'!F13 -> 4.19 | G36: =5-2*(F36-$F$51)/$F$52 -> 5.2989834 | H36: ='SỐ LIỆU TỔNG HỢP'!I13 -> 72 | I36: =5+2*(H36-$H$51)/$H$52 -> 9.5032708 | J36: ='SỐ LIỆU TỔNG HỢP'!L13 -> 8.89 | K36: =5+2*(J36-$J$51)/$J$52 -> 8.1942751 | L36: ='SỐ LIỆU TỔNG HỢP'!O13 -> 275 | M36: =5+2*(L36-$L$51)/$L$52 -> 2.8600761 | N36: ='SỐ LIỆU TỔNG HỢP'!R13 -> 2923 | O36: =5+2*(N36-$N$51)/$N$52 -> 0.83197364 | P36: ='SỐ LIỆU TỔNG HỢP'!U13 -> 21.25 | Q36: =5-2*(P36-$P$51)/$P$52 -> 4.859694 | R36: ='SỐ LIỆU TỔNG HỢP'!X13 -> 8 | S36: =5-2*(R36-$R$51)/$R$52 -> 6.6448678 | T36: ='SỐ LIỆU TỔNG HỢP'!AA13 -> 23 | U36: =5+(2*(T36-$T$51))/$T$52 -> 3.6817626 | V36: ='SỐ LIỆU TỔNG HỢP'!AD13 -> 7.09 | W36: =5-2*(V36-$V$51)/$V$52 -> 2.3969697 | X36: ='SỐ LIỆU TỔNG HỢP'!AG13 -> 57.3 | Y36: =5+2*(X36-$X$51)/$X$52 -> 0.85434132 | Z36: 2 | AA36: Nguyễn Chí | AB36: Linh | AC36: =G36 -> 5.2989834 | AD36: =I36 -> 9.5032708 | AE36: =K36 -> 8.1942751 | AF36: =M36 -> 2.8600761 | AG36: =Y36 -> 0.85434132 | AH36: =Q36 -> 4.859694 | AI36: =W36 -> 2.3969697 | AJ36: =O36 -> 0.83197364 | AK36: =S36 -> 6.6448678 | AL36: =U36 -> 3.6817626 | AM36: =SUM(AC36:AJ36) -> 34.799584 | AN36: TB
A37: 3 | B37: Phạm Vũ | C37: Linh | D37: 1993 | E37: 168 | F37: ='SỐ LIỆU TỔNG HỢP'!F14 -> 4.33 | G37: =5-2*(F37-$F$51)/$F$52 -> 2.6200922 | H37: ='SỐ LIỆU TỔNG HỢP'!I14 -> 64 | I37: =5+2*(H37-$H$51)/$H$52 -> 2.2068321 | J37: ='SỐ LIỆU TỔNG HỢP'!L14 -> 8.31 | K37: =5+2*(J37-$J$51)/$J$52 -> 2.8046619 | L37: ='SỐ LIỆU TỔNG HỢP'!O14 -> 286 | M37: =5+2*(L37-$L$51)/$L$52 -> 4.9759559 | N37: ='SỐ LIỆU TỔNG HỢP'!R14 -> 2965 | O37: =5+2*(N37-$N$51)/$N$52 -> 5.6611352 | P37: ='SỐ LIỆU TỔNG HỢP'!U14 -> 21.5 | Q37: =5-2*(P37-$P$51)/$P$52 -> 4.2071082 | R37: ='SỐ LIỆU TỔNG HỢP'!X14 -> 8.6 | S37: =5-2*(R37-$R$51)/$R$52 -> 3.6541991 | T37: ='SỐ LIỆU TỔNG HỢP'!AA14 -> 22 | U37: =5+(2*(T37-$T$51))/$T$52 -> 2.1533715 | V37: ='SỐ LIỆU TỔNG HỢP'!AD14 -> 7.05 | W37: =5-2*(V37-$V$51)/$V$52 -> 2.600133 | X37: ='SỐ LIỆU TỔNG HỢP'!AG14 -> 62.4 | Y37: =5+2*(X37-$X$51)/$X$52 -> 3.038239 | Z37: 3 | AA37: Phạm Vũ | AB37: Linh | AC37: =G37 -> 2.6200922 | AD37: =I37 -> 2.2068321 | AE37: =K37 -> 2.8046619 | AF37: =M37 -> 4.9759559 | AG37: =Y37 -> 3.038239 | AH37: =Q37 -> 4.2071082 | AI37: =W37 -> 2.600133 | AJ37: =O37 -> 5.6611352 | AK37: =S37 -> 3.6541991 | AL37: =U37 -> 2.1533715 | AM37: =SUM(AC37:AJ37) -> 28.114157 | AN37: YẾU
A38: 4 | B38: Nguyễn Minh | C38: Luân | D38: 1990 | E38: 180 | F38: ='SỐ LIỆU TỔNG HỢP'!F15 -> 4.12 | G38: =5-2*(F38-$F$51)/$F$52 -> 6.638429 | H38: ='SỐ LIỆU TỔNG HỢP'!I15 -> 67 | I38: =5+2*(H38-$H$51)/$H$52 -> 4.9429966 | J38: ='SỐ LIỆU TỔNG HỢP'!L15 -> 8.45 | K38: =5+2*(J38-$J$51)/$J$52 -> 4.105603 | L38: ='SỐ LIỆU TỔNG HỢP'!O15 -> 282 | M38: =5+2*(L38-$L$51)/$L$52 -> 4.2065451 | N38: ='SỐ LIỆU TỔNG HỢP'!R15 -> 2991 | O38: =5+2*(N38-$N$51)/$N$52 -> 8.6506162 | P38: ='SỐ LIỆU TỔNG HỢP'!U15 -> 19.65 | Q38: =5-2*(P38-$P$51)/$P$52 -> 9.0362435 | R38: ='SỐ LIỆU TỔNG HỢP'!X15 -> 8.58 | S38: =5-2*(R38-$R$51)/$R$52 -> 3.753888 | T38: ='SỐ LIỆU TỔNG HỢP'!AA15 -> 25 | U38: =5+(2*(T38-$T$51))/$T$52 -> 6.738545 | V38: ='SỐ LIỆU TỔNG HỢP'!AD15 -> 6.82 | W38: =5-2*(V38-$V$51)/$V$52 -> 3.7683222 | X38: ='SỐ LIỆU TỔNG HỢP'!AG15 -> 76.1 | Y38: =5+2*(X38-$X$51)/$X$52 -> 8.9047876 | Z38: 4 | AA38: Nguyễn Minh | AB38: Luân | AC38: =G38 -> 6.638429 | AD38: =I38 -> 4.9429966 | AE38: =K38 -> 4.105603 | AF38: =M38 -> 4.2065451 | AG38: =Y38 -> 8.9047876 | AH38: =Q38 -> 9.0362435 | AI38: =W38 -> 3.7683222 | AJ38: =O38 -> 8.6506162 | AK38: =S38 -> 3.753888 | AL38: =U38 -> 6.738545 | AM38: =SUM(AC38:AJ38) -> 50.253543 | AN38: KHÁ
A39: 5 | B39: Lý Thanh | C39: Hải | D39: 1994 | E39: 182 | F39: ='SỐ LIỆU TỔNG HỢP'!F16 -> 4.16 | G39: =5-2*(F39-$F$51)/$F$52 -> 5.8730315 | H39: ='SỐ LIỆU TỔNG HỢP'!I16 -> 69 | I39: =5+2*(H39-$H$51)/$H$52 -> 6.7671063 | J39: ='SỐ LIỆU TỔNG HỢP'!L16 -> 8.21 | K39: =5+2*(J39-$J$51)/$J$52 -> 1.8754182 | L39: ='SỐ LIỆU TỔNG HỢP'!O16 -> 276 | M39: =5+2*(L39-$L$51)/$L$52 -> 3.0524288 | N39: ='SỐ LIỆU TỔNG HỢP'!R16 -> 2960 | O39: =5+2*(N39-$N$51)/$N$52 -> 5.086235 | P39: ='SỐ LIỆU TỔNG HỢP'!U16 -> 21.1 | Q39: =5-2*(P39-$P$51)/$P$52 -> 5.2512456 | R39: ='SỐ LIỆU TỔNG HỢP'!X16 -> 8.47 | S39: =5-2*(R39-$R$51)/$R$52 -> 4.3021773 | T39: ='SỐ LIỆU TỔNG HỢP'!AA16 -> 25 | U39: =5+(2*(T39-$T$51))/$T$52 -> 6.738545 | V39: ='SỐ LIỆU TỔNG HỢP'!AD16 -> 7.07 | W39: =5-2*(V39-$V$51)/$V$52 -> 2.4985513 | X39: ='SỐ LIỆU TỔNG HỢP'!AG16 -> 70.1 | Y39: =5+2*(X39-$X$51)/$X$52 -> 6.3354962 | Z39: 5 | AA39: Lý Thanh | AB39: Hải | AC39: =G39 -> 5.8730315 | AD39: =I39 -> 6.7671063 | AE39: =K39 -> 1.8754182 | AF39: =M39 -> 3.0524288 | AG39: =Y39 -> 6.3354962 | AH39: =Q39 -> 5.2512456 | AI39: =W39 -> 2.4985513 | AJ39: =O39 -> 5.086235 | AK39: =S39 -> 4.3021773 | AL39: =U39 -> 6.738545 | AM39: =SUM(AC39:AJ39) -> 36.739513 | AN39: TB
A40: 6 | B40: Tăng Linh | C40: Tâm | D40: 1992 | E40: 179 | F40: ='SỐ LIỆU TỔNG HỢP'!F17 -> 4.17 | G40: =5-2*(F40-$F$51)/$F$52 -> 5.6816821 | H40: ='SỐ LIỆU TỔNG HỢP'!I17 -> 65 | I40: =5+2*(H40-$H$51)/$H$52 -> 3.1188869 | J40: ='SỐ LIỆU TỔNG HỢP'!L17 -> 8.45 | K40: =5+2*(J40-$J$51)/$J$52 -> 4.105603 | L40: ='SỐ LIỆU TỔNG HỢP'!O17 -> 308 | M40: =5+2*(L40-$L$51)/$L$52 -> 9.2077156 | N40: ='SỐ LIỆU TỔNG HỢP'!R17 -> 2939 | O40: =5+2*(N40-$N$51)/$N$52 -> 2.6716542 | P40: ='SỐ LIỆU TỔNG HỢP'!U17 -> 21.58 | Q40: =5-2*(P40-$P$51)/$P$52 -> 3.9982807 | R40: ='SỐ LIỆU TỔNG HỢP'!X17 -> 8.62 | S40: =5-2*(R40-$R$51)/$R$52 -> 3.5545101 | T40: ='SỐ LIỆU TỔNG HỢP'!AA17 -> 22 | U40: =5+(2*(T40-$T$51))/$T$52 -> 2.1533715 | V40: ='SỐ LIỆU TỔNG HỢP'!AD17 -> 6.08 | W40: =5-2*(V40-$V$51)/$V$52 -> 7.5268441 | X40: ='SỐ LIỆU TỔNG HỢP'!AG17 -> 72.1 | Y40: =5+2*(X40-$X$51)/$X$52 -> 7.1919267 | Z40: 6 | AA40: Tăng Linh | AB40: Tâm | AC40: =G40 -> 5.6816821 | AD40: =I40 -> 3.1188869 | AE40: =K40 -> 4.105603 | AF40: =M40 -> 9.2077156 | AG40: =Y40 -> 7.1919267 | AH40: =Q40 -> 3.9982807 | AI40: =W40 -> 7.5268441 | AJ40: =O40 -> 2.6716542 | AK40: =S40 -> 3.5545101 | AL40: =U40 -> 2.1533715 | AM40: =SUM(AC40:AJ40) -> 43.502593 | AN40: TB
A41: 7 | B41: Nguyễn Duy | C41: Khang | D41: 1993 | E41: 177 | F41: ='SỐ LIỆU TỔNG HỢP'!F18 -> 4.26 | G41: =5-2*(F41-$F$51)/$F$52 -> 3.9595378 | H41: ='SỐ LIỆU TỔNG HỢP'!I18 -> 65 | I41: =5+2*(H41-$H$51)/$H$52 -> 3.1188869 | J41: ='SỐ LIỆU TỔNG HỢP'!L18 -> 8.76 | K41: =5+2*(J41-$J$51)/$J$52 -> 6.9862583 | L41: ='SỐ LIỆU TỔNG HỢP'!O18 -> 289 | M41: =5+2*(L41-$L$51)/$L$52 -> 5.5530141 | N41: ='SỐ LIỆU TỔNG HỢP'!R18 -> 2966 | O41: =5+2*(N41-$N$51)/$N$52 -> 5.7761153 | P41: ='SỐ LIỆU TỔNG HỢP'!U18 -> 22.15 | Q41: =5-2*(P41-$P$51)/$P$52 -> 2.5103849 | R41: ='SỐ LIỆU TỔNG HỢP'!X18 -> 8.1 | S41: =5-2*(R41-$R$51)/$R$52 -> 6.146423 | T41: ='SỐ LIỆU TỔNG HỢP'!AA18 -> 24 | U41: =5+(2*(T41-$T$51))/$T$52 -> 5.2101538 | V41: ='SỐ LIỆU TỔNG HỢP'!AD18 -> 6.83 | W41: =5-2*(V41-$V$51)/$V$52 -> 3.7175314 | X41: ='SỐ LIỆU TỔNG HỢP'!AG18 -> 66.2 | Y41: =5+2*(X41-$X$51)/$X$52 -> 4.6654569 | Z41: 7 | AA41: Nguyễn Duy | AB41: Khang | AC41: =G41 -> 3.9595378 | AD41: =I41 -> 3.1188869 | AE41: =K41 -> 6.9862583 | AF41: =M41 -> 5.5530141 | AG41: =Y41 -> 4.6654569 | AH41: =Q41 -> 2.5103849 | AI41: =W41 -> 3.7175314 | AJ41: =O41 -> 5.7761153 | AK41: =S41 -> 6.146423 | AL41: =U41 -> 5.2101538 | AM41: =SUM(AC41:AJ41) -> 36.287186 | AN41: TB
A42: 8 | B42: Huỳnh Công | C42: Quý | D42: 1994 | E42: 177 | F42: ='SỐ LIỆU TỔNG HỢP'!F19 -> 4.52 | G42: =5-2*(F42-$F$51)/$F$52 -> -1.0155458 | H42: ='SỐ LIỆU TỔNG HỢP'!I19 -> 67 | I42: =5+2*(H42-$H$51)/$H$52 -> 4.9429966 | J42: ='SỐ LIỆU TỔNG HỢP'!L19 -> 8.62 | K42: =5+2*(J42-$J$51)/$J$52 -> 5.6853172 | L42: ='SỐ LIỆU TỔNG HỢP'!O19 -> 302 | M42: =5+2*(L42-$L$51)/$L$52 -> 8.0535993 | N42: ='SỐ LIỆU TỔNG HỢP'!R19 -> 2995 | O42: =5+2*(N42-$N$51)/$N$52 -> 9.1105363 | P42: ='SỐ LIỆU TỔNG HỢP'!U19 -> 22.24 | Q42: =5-2*(P42-$P$51)/$P$52 -> 2.275454 | R42: ='SỐ LIỆU TỔNG HỢP'!X19 -> 9.05 | S42: =5-2*(R42-$R$51)/$R$52 -> 1.4111975 | T42: ='SỐ LIỆU TỔNG HỢP'!AA19 -> 24.5 | U42: =5+(2*(T42-$T$51))/$T$52 -> 5.9743494 | V42: ='SỐ LIỆU TỔNG HỢP'!AD19 -> 6.34 | W42: =5-2*(V42-$V$51)/$V$52 -> 6.2062823 | X42: ='SỐ LIỆU TỔNG HỢP'!AG19 -> 64.3 | Y42: =5+2*(X42-$X$51)/$X$52 -> 3.8518479 | Z42: 8 | AA42: Huỳnh Công | AB42: Quý | AC42: =G42 -> -1.0155458 | AD42: =I42 -> 4.9429966 | AE42: =K42 -> 5.6853172 | AF42: =M42 -> 8.0535993 | AG42: =Y42 -> 3.8518479 | AH42: =Q42 -> 2.275454 | AI42: =W42 -> 6.2062823 | AJ42: =O42 -> 9.1105363 | AK42: =S42 -> 1.4111975 | AL42: =U42 -> 5.9743494 | AM42: =SUM(AC42:AJ42) -> 39.110488 | AN42: TB
A43: 9 | B43: Trịnh Nguyễn | C43: Tính | D43: 1992 | E43: 180 | F43: ='SỐ LIỆU TỔNG HỢP'!F20 -> 4.03 | G43: =5-2*(F43-$F$51)/$F$52 -> 8.3605733 | H43: ='SỐ LIỆU TỔNG HỢP'!I20 -> 70 | I43: =5+2*(H43-$H$51)/$H$52 -> 7.6791611 | J43: ='SỐ LIỆU TỔNG HỢP'!L20 -> 8.68 | K43: =5+2*(J43-$J$51)/$J$52 -> 6.2428634 | L43: ='SỐ LIỆU TỔNG HỢP'!O20 -> 304 | M43: =5+2*(L43-$L$51)/$L$52 -> 8.4383048 | N43: ='SỐ LIỆU TỔNG HỢP'!R20 -> 2958 | O43: =5+2*(N43-$N$51)/$N$52 -> 4.856275 | P43: ='SỐ LIỆU TỔNG HỢP'!U20 -> 22.01 | Q43: =5-2*(P43-$P$51)/$P$52 -> 2.875833 | R43: ='SỐ LIỆU TỔNG HỢP'!X20 -> 9.29 | S43: =5-2*(R43-$R$51)/$R$52 -> 0.21493005 | T43: ='SỐ LIỆU TỔNG HỢP'!AA20 -> 22 | U43: =5+(2*(T43-$T$51))/$T$52 -> 2.1533715 | V43: ='SỐ LIỆU TỔNG HỢP'!AD20 -> 6.85 | W43: =5-2*(V43-$V$51)/$V$52 -> 3.6159497 | X43: ='SỐ LIỆU TỔNG HỢP'!AG20 -> 59.6 | Y43: =5+2*(X43-$X$51)/$X$52 -> 1.8392363 | Z43: 9 | AA43: Trịnh Nguyễn | AB43: Tính | AC43: =G43 -> 8.3605733 | AD43: =I43 -> 7.6791611 | AE43: =K43 -> 6.2428634 | AF43: =M43 -> 8.4383048 | AG43: =Y43 -> 1.8392363 | AH43: =Q43 -> 2.875833 | AI43: =W43 -> 3.6159497 | AJ43: =O43 -> 4.856275 | AK43: =S43 -> 0.21493005 | AL43: =U43 -> 2.1533715 | AM43: =SUM(AC43:AJ43) -> 43.908197 | AN43: TB
A44: 10 | B44: Huỳnh Văn | C44: Hùng | D44: 1990 | E44: 176 | F44: ='SỐ LIỆU TỔNG HỢP'!F21 -> 4.27 | G44: =5-2*(F44-$F$51)/$F$52 -> 3.7681884 | H44: ='SỐ LIỆU TỔNG HỢP'!I21 -> 67 | I44: =5+2*(H44-$H$51)/$H$52 -> 4.9429966 | J44: ='SỐ LIỆU TỔNG HỢP'!L21 -> 8.81 | K44: =5+2*(J44-$J$51)/$J$52 -> 7.4508801 | L44: ='SỐ LIỆU TỔNG HỢP'!O21 -> 281 | M44: =5+2*(L44-$L$51)/$L$52 -> 4.0141923 | N44: ='SỐ LIỆU TỔNG HỢP'!R21 -> 2935 | O44: =5+2*(N44-$N$51)/$N$52 -> 2.2117341 | P44: ='SỐ LIỆU TỔNG HỢP'!U21 -> 21.14 | Q44: =5-2*(P44-$P$51)/$P$52 -> 5.1468318 | R44: ='SỐ LIỆU TỔNG HỢP'!X21 -> 8.25 | S44: =5-2*(R44-$R$51)/$R$52 -> 5.3987558 | T44: ='SỐ LIỆU TỔNG HỢP'!AA21 -> 23 | U44: =5+(2*(T44-$T$51))/$T$52 -> 3.6817626 | V44: ='SỐ LIỆU TỔNG HỢP'!AD21 -> 6.23 | W44: =5-2*(V44-$V$51)/$V$52 -> 6.7649815 | X44: ='SỐ LIỆU TỔNG HỢP'!AG21 -> 66 | Y44: =5+2*(X44-$X$51)/$X$52 -> 4.5798138 | Z44: 10 | AA44: Huỳnh Văn | AB44: Hùng | AC44: =G44 -> 3.7681884 | AD44: =I44 -> 4.9429966 | AE44: =K44 -> 7.4508801 | AF44: =M44 -> 4.0141923 | AG44: =Y44 -> 4.5798138 | AH44: =Q44 -> 5.1468318 | AI44: =W44 -> 6.7649815 | AJ44: =O44 -> 2.2117341 | AK44: =S44 -> 5.3987558 | AL44: =U44 -> 3.6817626 | AM44: =SUM(AC44:AJ44) -> 38.879619 | AN44: TB
A45: 11 | B45: Phạm Quốc | C45: Dương | D45: 1990 | E45: 180 | F45: ='SỐ LIỆU TỔNG HỢP'!F22 -> 4.18 | G45: =5-2*(F45-$F$51)/$F$52 -> 5.4903328 | H45: ='SỐ LIỆU TỔNG HỢP'!I22 -> 64 | I45: =5+2*(H45-$H$51)/$H$52 -> 2.2068321 | J45: ='SỐ LIỆU TỔNG HỢP'!L22 -> 8.57 | K45: =5+2*(J45-$J$51)/$J$52 -> 5.2206954 | L45: ='SỐ LIỆU TỔNG HỢP'!O22 -> 287 | M45: =5+2*(L45-$L$51)/$L$52 -> 5.1683086 | N45: ='SỐ LIỆU TỔNG HỢP'!R22 -> 2959 | O45: =5+2*(N45-$N$51)/$N$52 -> 4.971255 | P45: ='SỐ LIỆU TỔNG HỢP'!U22 -> 21.12 | Q45: =5-2*(P45-$P$51)/$P$52 -> 5.1990387 | R45: ='SỐ LIỆU TỔNG HỢP'!X22 -> 8.05 | S45: =5-2*(R45-$R$51)/$R$52 -> 6.3956454 | T45: ='SỐ LIỆU TỔNG HỢP'!AA22 -> 26 | U45: =5+(2*(T45-$T$51))/$T$52 -> 8.2669361 | V45: ='SỐ LIỆU TỔNG HỢP'!AD22 -> 6.18 | W45: =5-2*(V45-$V$51)/$V$52 -> 7.0189357 | X45: ='SỐ LIỆU TỔNG HỢP'!AG22 -> 64.5 | Y45: =5+2*(X45-$X$51)/$X$52 -> 3.937491 | Z45: 11 | AA45: Phạm Quốc | AB45: Dương | AC45: =G45 -> 5.4903328 | AD45: =I45 -> 2.2068321 | AE45: =K45 -> 5.2206954 | AF45: =M45 -> 5.1683086 | AG45: =Y45 -> 3.937491 | AH45: =Q45 -> 5.1990387 | AI45: =W45 -> 7.0189357 | AJ45: =O45 -> 4.971255 | AK45: =S45 -> 6.3956454 | AL45: =U45 -> 8.2669361 | AM45: =SUM(AC45:AJ45) -> 39.212889 | AN45: TB
A46: 12 | B46: Tăng Linh | C46: Tâm | D46: 1991 | E46: 179 | F46: ='SỐ LIỆU TỔNG HỢP'!F23 -> 4.19 | G46: =5-2*(F46-$F$51)/$F$52 -> 5.2989834 | H46: ='SỐ LIỆU TỔNG HỢP'!I23 -> 67 | I46: =5+2*(H46-$H$51)/$H$52 -> 4.9429966 | J46: ='SỐ LIỆU TỔNG HỢP'!L23 -> 8.72 | K46: =5+2*(J46-$J$51)/$J$52 -> 6.6145609 | L46: ='SỐ LIỆU TỔNG HỢP'!O23 -> 290 | M46: =5+2*(L46-$L$51)/$L$52 -> 5.7453668 | N46: ='SỐ LIỆU TỔNG HỢP'!R23 -> 2952 | O46: =5+2*(N46-$N$51)/$N$52 -> 4.1663947 | P46: ='SỐ LIỆU TỔNG HỢP'!U23 -> 21.12 | Q46: =5-2*(P46-$P$51)/$P$52 -> 5.1990387 | R46: ='SỐ LIỆU TỔNG HỢP'!X23 -> 8.25 | S46: =5-2*(R46-$R$51)/$R$52 -> 5.3987558 | T46: ='SỐ LIỆU TỔNG HỢP'!AA23 -> 25 | U46: =5+(2*(T46-$T$51))/$T$52 -> 6.738545 | V46: ='SỐ LIỆU TỔNG HỢP'!AD23 -> 6.94 | W46: =5-2*(V46-$V$51)/$V$52 -> 3.1588322 | X46: ='SỐ LIỆU TỔNG HỢP'!AG23 -> 71 | Y46: =5+2*(X46-$X$51)/$X$52 -> 6.7208899 | Z46: 12 | AA46: Tăng Linh | AB46: Tâm | AC46: =G46 -> 5.2989834 | AD46: =I46 -> 4.9429966 | AE46: =K46 -> 6.6145609 | AF46: =M46 -> 5.7453668 | AG46: =Y46 -> 6.7208899 | AH46: =Q46 -> 5.1990387 | AI46: =W46 -> 3.1588322 | AJ46: =O46 -> 4.1663947 | AK46: =S46 -> 5.3987558 | AL46: =U46 -> 6.738545 | AM46: =SUM(AC46:AJ46) -> 41.847063 | AN46: TB
... A50: 16 | B50: Trần Thanh | C50: Sơn | D50: 1992 | E50: 171 | F50: ='SỐ LIỆU TỔNG HỢP'!F27 -> 4.15 | G50: =5-2*(F50-$F$51)/$F$52 -> 6.0643809 | H50: ='SỐ LIỆU TỔNG HỢP'!I27 -> 69 | I50: =5+2*(H50-$H$51)/$H$52 -> 6.7671063 | J50: ='SỐ LIỆU TỔNG HỢP'!L27 -> 8.77 | K50: =5+2*(J50-$J$51)/$J$52 -> 7.0791827 | L50: ='SỐ LIỆU TỔNG HỢP'!O27 -> 290 | M50: =5+2*(L50-$L$51)/$L$52 -> 5.7453668 | N50: ='SỐ LIỆU TỔNG HỢP'!R27 -> 2969 | O50: =5+2*(N50-$N$51)/$N$52 -> 6.1210554 | P50: ='SỐ LIỆU TỔNG HỢP'!U27 -> 21.15 | Q50: =5-2*(P50-$P$51)/$P$52 -> 5.1207284 | R50: ='SỐ LIỆU TỔNG HỢP'!X27 -> 8 | S50: =5-2*(R50-$R$51)/$R$52 -> 6.6448678 | T50: ='SỐ LIỆU TỔNG HỢP'!AA27 -> 25 | U50: =5+(2*(T50-$T$51))/$T$52 -> 6.738545 | V50: ='SỐ LIỆU TỔNG HỢP'!AD27 -> 6.23 | W50: =5-2*(V50-$V$51)/$V$52 -> 6.7649815 | X50: ='SỐ LIỆU TỔNG HỢP'!AG27 -> 71 | Y50: =5+2*(X50-$X$51)/$X$52 -> 6.7208899 | Z50: 16 | AA50: Trần Thanh | AB50: Sơn | AC50: =G50 -> 6.0643809 | AD50: =I50 -> 6.7671063 | AE50: =K50 -> 7.0791827 | AF50: =M50 -> 5.7453668 | AG50: =Y50 -> 6.7208899 | AH50: =Q50 -> 5.1207284 | AI50: =W50 -> 6.7649815 | AJ50: =O50 -> 6.1210554 | AK50: =S50 -> 6.6448678 | AL50: =U50 -> 6.738545 | AM50: =SUM(AC50:AJ50) -> 50.383692 | AN50: KHÁ
B51: Giá trị trung bình | F51: ='SỐ LIỆU TỔNG HỢP'!F29 -> 4.205625 | H51: ='SỐ LIỆU TỔNG HỢP'!I29 -> 67.0625 | J51: ='SỐ LIỆU TỔNG HỢP'!L29 -> 8.54625 | L51: ='SỐ LIỆU TỔNG HỢP'!O29 -> 286.125 | N51: ='SỐ LIỆU TỔNG HỢP'!R29 -> 2959.25 | P51: ='SỐ LIỆU TỔNG HỢP'!U29 -> 21.19625 | R51: ='SỐ LIỆU TỔNG HỢP'!X29 -> 8.33 | T51: ='SỐ LIỆU TỔNG HỢP'!AA29 -> 23.8625 | V51: ='SỐ LIỆU TỔNG HỢP'!AD29 -> 6.5775 | X51: ='SỐ LIỆU TỔNG HỢP'!AG29 -> 66.98125
B52: Độ lệch chuẩn | F52: ='SỐ LIỆU TỔNG HỢP'!F30 -> 0.10452086 | H52: ='SỐ LIỆU TỔNG HỢP'!I30 -> 2.1928506 | J52: ='SỐ LIỆU TỔNG HỢP'!L30 -> 0.2152288 | L52: ='SỐ LIỆU TỔNG HỢP'!O30 -> 10.397566 | N52: ='SỐ LIỆU TỔNG HỢP'!R30 -> 17.394324 | P52: ='SỐ LIỆU TỔNG HỢP'!U30 -> 0.76618271 | R52: ='SỐ LIỆU TỔNG HỢP'!X30 -> 0.40124805 | T52: ='SỐ LIỆU TỔNG HỢP'!AA30 -> 1.3085655 | V52: ='SỐ LIỆU TỔNG HỢP'!AD30 -> 0.39377182 | X52: ='SỐ LIỆU TỔNG HỢP'!AG30 -> 4.6705485

Sheet THANG ĐIỂM C(in)
A1: BỘ GIÁO DỤC VÀ ĐÀO TẠO | G1: CỘNG HOÀ XÃ HỘI CHỦ NGHĨA VIỆT NAM | O1: BỘ GIÁO DỤC VÀ ĐÀO TẠO | U1: CỘNG HOÀ XÃ HỘI CHỦ NGHĨA VIỆT NAM
A2: TRƯỜNG ĐẠI HỌC CẦN THƠ | G2: Độc lập - Tự do - Hạnh phúc | O2: TRƯỜNG ĐẠI HỌC CẦN THƠ | U2: Độc lập - Tự do - Hạnh phúc
A3: TỔ: GIÁO DỤC THỂ CHẤT | O3: TỔ: GIÁO DỤC THỂ CHẤT
D4: BẢNG KIỂM TRA SỐ LIỆU LẦN 1 (BAN ĐẦU) | R4: BẢNG KIỂM TRA SỐ LIỆU LẦN 2 (SAU 1 NĂM TẬP LUYỆN)
A6: TT | B6: Họ và | C6: Tên | D6: Năm sinh VĐV | E6: Chiều Cao (cm) | F6: NỘI DUNG KIỂM TRA LẦN 1 | O6: TT | P6: Họ và | Q6: Tên | R6: Năm sinh VĐV | S6: Chiều Cao (cm) | T6: NỘI DUNG KIỂM TRA LẦN 2
F7: Chạy 30m XPC (giây) | G7: Bật xa 3 bước liên tục (cm) | H7: Bật xa tại chỗ (cm) | I7: Chạy 12 phút (mét) | J7: Chạy cây thông (giây) | K7: Chạy con thoi 4x10m (giây) | L7: Đứng gập thân (cm) | M7: Chạy 9.3.6.3.9 (giây) | N7: Bóp lực kế tay thuận (kg) | T7: Chạy 30m XPC (giây) | U7: Bật xa 3 bước liên tục (cm) | V7: Bật xa tại chỗ (cm) | W7: Chạy 12 phút (mét) | X7: Chạy cây thông (giây) | Y7: Chạy con thoi 4x10m (giây) | Z7: Đứng gập thân (cm) | AA7: Chạy 9.3.6.3.9 (giây) | AB7: Bóp lực kế tay thuận (kg)
A10: 1 | B10: Đạo Báo Công | C10: Tin | D10: 1997 | E10: 183 | F10: ='SỐ LIỆU TỔNG HỢP'!E12 -> 4.45 | G10: ='SỐ LIỆU TỔNG HỢP'!K12 -> 7.51 | H10: ='SỐ LIỆU TỔNG HỢP'!N12 -> 255 | I10: ='SỐ LIỆU TỔNG HỢP'!Q12 -> 2875 | J10: ='SỐ LIỆU TỔNG HỢP'!T12 -> 19.5 | K10: ='SỐ LIỆU TỔNG HỢP'!W12 -> 8.35 | L10: ='SỐ LIỆU TỔNG HỢP'!Z12 -> 16 | M10: ='SỐ LIỆU TỔNG HỢP'!AC12 -> 5.9 | N10: ='SỐ LIỆU TỔNG HỢP'!AF12 -> 57 | O10: 1 | P10: Đạo Báo Công | Q10: Tin | R10: 1997 | S10: 183 | T10: ='SỐ LIỆU TỔNG HỢP'!F12 -> 4.12 | U10: ='SỐ LIỆU TỔNG HỢP'!L12 -> 8.17 | V10: ='SỐ LIỆU TỔNG HỢP'!O12 -> 274 | W10: ='SỐ LIỆU TỔNG HỢP'!R12 -> 2962 | X10: ='SỐ LIỆU TỔNG HỢP'!U12 -> 19.21 | Y10: ='SỐ LIỆU TỔNG HỢP'!X12 -> 8.11 | Z10: ='SỐ LIỆU TỔNG HỢP'!AA12 -> 22 | AA10: ='SỐ LIỆU TỔNG HỢP'!AD12 -> 5.8 | AB10: ='SỐ LIỆU TỔNG HỢP'!AG12 -> 69.1
A11: 2 | B11: Đỗ Cao | C11: Vũ | D11: 1997 | E11: 175 | F11: ='SỐ LIỆU TỔNG HỢP'!E13 -> 4.48 | G11: ='SỐ LIỆU TỔNG HỢP'!K13 -> 8.05 | H11: ='SỐ LIỆU TỔNG HỢP'!N13 -> 261 | I11: ='SỐ LIỆU TỔNG HỢP'!Q13 -> 2833 | J11: ='SỐ LIỆU TỔNG HỢP'!T13 -> 21.85 | K11: ='SỐ LIỆU TỔNG HỢP'!W13 -> 8.25 | L11: ='SỐ LIỆU TỔNG HỢP'!Z13 -> 16 | M11: ='SỐ LIỆU TỔNG HỢP'!AC13 -> 7.55 | N11: ='SỐ LIỆU TỔNG HỢP'!AF13 -> 49 | O11: 2 | P11: Đỗ Cao | Q11: Vũ | R11: 1997 | S11: 175 | T11: ='SỐ LIỆU TỔNG HỢP'!F13 -> 4.19 | U11: ='SỐ LIỆU TỔNG HỢP'!L13 -> 8.89 | V11: ='SỐ LIỆU TỔNG HỢP'!O13 -> 275 | W11: ='SỐ LIỆU TỔNG HỢP'!R13 -> 2923 | X11: ='SỐ LIỆU TỔNG HỢP'!U13 -> 21.25 | Y11: ='SỐ LIỆU TỔNG HỢP'!X13 -> 8 | Z11: ='SỐ LIỆU TỔNG HỢP'!AA13 -> 23 | AA11: ='SỐ LIỆU TỔNG HỢP'!AD13 -> 7.09 | AB11: ='SỐ LIỆU TỔNG HỢP'!AG13 -> 57.3
A12: 3 | B12: Mai Lê | C12: Duy | D12: 1997 | E12: 168 | F12: ='SỐ LIỆU TỔNG HỢP'!E14 -> 4.67 | G12: ='SỐ LIỆU TỔNG HỢP'!K14 -> 7.59 | H12: ='SỐ LIỆU TỔNG HỢP'!N14 -> 268 | I12: ='SỐ LIỆU TỔNG HỢP'!Q14 -> 2890 | J12: ='SỐ LIỆU TỔNG HỢP'!T14 -> 22.9 | K12: ='SỐ LIỆU TỔNG HỢP'!W14 -> 9.05 | L12: ='SỐ LIỆU TỔNG HỢP'!Z14 -> 16 | M12: ='SỐ LIỆU TỔNG HỢP'!AC14 -> 7.62 | N12: ='SỐ LIỆU TỔNG HỢP'!AF14 -> 51 | O12: 3 | P12: Mai Lê | Q12: Duy | R12: 1997 | S12: 168 | T12: ='SỐ LIỆU TỔNG HỢP'!F14 -> 4.33 | U12: ='SỐ LIỆU TỔNG HỢP'!L14 -> 8.31 | V12: ='SỐ LIỆU TỔNG HỢP'!O14 -> 286 | W12: ='SỐ LIỆU TỔNG HỢP'!R14 -> 2965 | X12: ='SỐ LIỆU TỔNG HỢP'!U14 -> 21.5 | Y12: ='SỐ LIỆU TỔNG HỢP'!X14 -> 8.6 | Z12: ='SỐ LIỆU TỔNG HỢP'!AA14 -> 22 | AA12: ='SỐ LIỆU TỔNG HỢP'!AD14 -> 7.05 | AB12: ='SỐ LIỆU TỔNG HỢP'!AG14 -> 62.4
A13: 4 | B13: Nguyễn Huỳnh | C13: Nhạc | D13: 1997 | E13: 180 | F13: ='SỐ LIỆU TỔNG HỢP'!E15 -> 4.39 | G13: ='SỐ LIỆU TỔNG HỢP'!K15 -> 7.81 | H13: ='SỐ LIỆU TỔNG HỢP'!N15 -> 265 | I13: ='SỐ LIỆU TỔNG HỢP'!Q15 -> 2899 | J13: ='SỐ LIỆU TỔNG HỢP'!T15 -> 20.7 | K13: ='SỐ LIỆU TỔNG HỢP'!W15 -> 8.9 | L13: ='SỐ LIỆU TỔNG HỢP'!Z15 -> 18 | M13: ='SỐ LIỆU TỔNG HỢP'!AC15 -> 7.3 | N13: ='SỐ LIỆU TỔNG HỢP'!AF15 -> 66 | O13: 4 | P13: Nguyễn Huỳnh | Q13: Nhạc | R13: 1997 | S13: 180 | T13: ='SỐ LIỆU TỔNG HỢP'!F15 -> 4.12 | U13: ='SỐ LIỆU TỔNG HỢP'!L15 -> 8.45 | V13: ='SỐ LIỆU TỔNG HỢP'!O15 -> 282 | W13: ='SỐ LIỆU TỔNG HỢP'!R15 -> 2991 | X13: ='SỐ LIỆU TỔNG HỢP'!U15 -> 19.65 | Y13: ='SỐ LIỆU TỔNG HỢP'!X15 -> 8.58 | Z13: ='SỐ LIỆU TỔNG HỢP'!AA15 -> 25 | AA13: ='SỐ LIỆU TỔNG HỢP'!AD15 -> 6.82 | AB13: ='SỐ LIỆU TỔNG HỢP'!AG15 -> 76.1
A14: 5 | B14: Nguyễn Long | C14: Tín | D14: 1996 | E14: 182 | F14: ='SỐ LIỆU TỔNG HỢP'!E16 -> 4.45 | G14: ='SỐ LIỆU TỔNG HỢP'!K16 -> 7.56 | H14: ='SỐ LIỆU TỔNG HỢP'!N16 -> 261 | I14: ='SỐ LIỆU TỔNG HỢP'!Q16 -> 2870 | J14: ='SỐ LIỆU TỔNG HỢP'!T16 -> 21.35 | K14: ='SỐ LIỆU TỔNG HỢP'!W16 -> 8.6 | L14: ='SỐ LIỆU TỔNG HỢP'!Z16 -> 18 | M14: ='SỐ LIỆU TỔNG HỢP'!AC16 -> 7.89 | N14: ='SỐ LIỆU TỔNG HỢP'!AF16 -> 64 | O14: 5 | P14: Nguyễn Long | Q14: Tín | R14: 1996 | S14: 182 | T14: ='SỐ LIỆU TỔNG HỢP'!F16 -> 4.16 | U14: ='SỐ LIỆU TỔNG HỢP'!L16 -> 8.21 | V14: ='SỐ LIỆU TỔNG HỢP'!O16 -> 276 | W14: ='SỐ LIỆU TỔNG HỢP'!R16 -> 2960 | X14: ='SỐ LIỆU TỔNG HỢP'!U16 -> 21.1 | Y14: ='SỐ LIỆU TỔNG HỢP'!X16 -> 8.47 | Z14: ='SỐ LIỆU TỔNG HỢP'!AA16 -> 25 | AA14: ='SỐ LIỆU TỔNG HỢP'!AD16 -> 7.07 | AB14: ='SỐ LIỆU TỔNG HỢP'!AG16 -> 70.1
A15: 6 | B15: Trần Ngọc | C15: Ngọc | D15: 1995 | E15: 179 | F15: ='SỐ LIỆU TỔNG HỢP'!E17 -> 4.43 | G15: ='SỐ LIỆU TỔNG HỢP'!K17 -> 7.823 | H15: ='SỐ LIỆU TỔNG HỢP'!N17 -> 275 | I15: ='SỐ LIỆU TỔNG HỢP'!Q17 -> 2863 | J15: ='SỐ LIỆU TỔNG HỢP'!T17 -> 22.7 | K15: ='SỐ LIỆU TỔNG HỢP'!W17 -> 9.1 | L15: ='SỐ LIỆU TỔNG HỢP'!Z17 -> 16 | M15: ='SỐ LIỆU TỔNG HỢP'!AC17 -> 6.26 | N15: ='SỐ LIỆU TỔNG HỢP'!AF17 -> 57.4 | O15: 6 | P15: Trần Ngọc | Q15: Ngọc | R15: 1995 | S15: 179 | T15: ='SỐ LIỆU TỔNG HỢP'!F17 -> 4.17 | U15: ='SỐ LIỆU TỔNG HỢP'!L17 -> 8.45 | V15: ='SỐ LIỆU TỔNG HỢP'!O17 -> 308 | W15: ='SỐ LIỆU TỔNG HỢP'!R17 -> 2939 | X15: ='SỐ LIỆU TỔNG HỢP'!U17 -> 21.58 | Y15: ='SỐ LIỆU TỔNG HỢP'!X17 -> 8.62 | Z15: ='SỐ LIỆU TỔNG HỢP'!AA17 -> 22 | AA15: ='SỐ LIỆU TỔNG HỢP'!AD17 -> 6.08 | AB15: ='SỐ LIỆU TỔNG HỢP'!AG17 -> 72.1
A16: 7 | B16: Nguyễn Quốc | C16: Khánh | D16: 1996 | E16: 177 | F16: ='SỐ LIỆU TỔNG HỢP'!E18 -> 4.53 | G16: ='SỐ LIỆU TỔNG HỢP'!K18 -> 8.06 | H16: ='SỐ LIỆU TỔNG HỢP'!N18 -> 270 | I16: ='SỐ LIỆU TỔNG HỢP'!Q18 -> 2895 | J16: ='SỐ LIỆU TỔNG HỢP'!T18 -> 23.3 | K16: ='SỐ LIỆU TỔNG HỢP'!W18 -> 8.58 | L16: ='SỐ LIỆU TỔNG HỢP'!Z18 -> 17 | M16: ='SỐ LIỆU TỔNG HỢP'!AC18 -> 7.55 | N16: ='SỐ LIỆU TỔNG HỢP'!AF18 -> 57 | O16: 7 | P16: Nguyễn Quốc | Q16: Khánh | R16: 1996 | S16: 177 | T16: ='SỐ LIỆU TỔNG HỢP'!F18 -> 4.26 | U16: ='SỐ LIỆU TỔNG HỢP'!L18 -> 8.76 | V16: ='SỐ LIỆU TỔNG HỢP'!O18 -> 289 | W16: ='SỐ LIỆU TỔNG HỢP'!R18 -> 2966 | X16: ='SỐ LIỆU TỔNG HỢP'!U18 -> 22.15 | Y16: ='SỐ LIỆU TỔNG HỢP'!X18 -> 8.1 | Z16: ='SỐ LIỆU TỔNG HỢP'!AA18 -> 24 | AA16: ='SỐ LIỆU TỔNG HỢP'!AD18 -> 6.83 | AB16: ='SỐ LIỆU TỔNG HỢP'!AG18 -> 66.2
A17: 8 | B17: Đoàn Khải | C17: Duy | D17: 1997 | E17: 177 | F17: ='SỐ LIỆU TỔNG HỢP'!E19 -> 4.75 | G17: ='SỐ LIỆU TỔNG HỢP'!K19 -> 7.79 | H17: ='SỐ LIỆU TỔNG HỢP'!N19 -> 280 | I17: ='SỐ LIỆU TỔNG HỢP'!Q19 -> 2910 | J17: ='SỐ LIỆU TỔNG HỢP'!T19 -> 23.45 | K17: ='SỐ LIỆU TỔNG HỢP'!W19 -> 9.25 | L17: ='SỐ LIỆU TỔNG HỢP'!Z19 -> 18 | M17: ='SỐ LIỆU TỔNG HỢP'!AC19 -> 7.56 | N17: ='SỐ LIỆU TỔNG HỢP'!AF19 -> 58 | O17: 8 | P17: Đoàn Khải | Q17: Duy | R17: 1997 | S17: 177 | T17: ='SỐ LIỆU TỔNG HỢP'!F19 -> 4.52 | U17: ='SỐ LIỆU TỔNG HỢP'!L19 -> 8.62 | V17: ='SỐ LIỆU TỔNG HỢP'!O19 -> 302 | W17: ='SỐ LIỆU TỔNG HỢP'!R19 -> 2995 | X17: ='SỐ LIỆU TỔNG HỢP'!U19 -> 22.24 | Y17: ='SỐ LIỆU TỔNG HỢP'!X19 -> 9.05 | Z17: ='SỐ LIỆU TỔNG HỢP'!AA19 -> 24.5 | AA17: ='SỐ LIỆU TỔNG HỢP'!AD19 -> 6.34 | AB17: ='SỐ LIỆU TỔNG HỢP'!AG19 -> 64.3
A18: 9 | B18: Hồ Quang | C18: Thành | D18: 1996 | E18: 180 | F18: ='SỐ LIỆU TỔNG HỢP'!E20 -> 4.35 | G18: ='SỐ LIỆU TỔNG HỢP'!K20 -> 7.91 | H18: ='SỐ LIỆU TỔNG HỢP'!N20 -> 280 | I18: ='SỐ LIỆU TỔNG HỢP'!Q20 -> 2867 | J18: ='SỐ LIỆU TỔNG HỢP'!T20 -> 22.61 | K18: ='SỐ LIỆU TỔNG HỢP'!W20 -> 9.89 | L18: ='SỐ LIỆU TỔNG HỢP'!Z20 -> 17 | M18: ='SỐ LIỆU TỔNG HỢP'!AC20 -> 7.35 | N18: ='SỐ LIỆU TỔNG HỢP'!AF20 -> 52 | O18: 9 | P18: Hồ Quang | Q18: Thành | R18: 1996 | S18: 180 | T18: ='SỐ LIỆU TỔNG HỢP'!F20 -> 4.03 | U18: ='SỐ LIỆU TỔNG HỢP'!L20 -> 8.68 | V18: ='SỐ LIỆU TỔNG HỢP'!O20 -> 304 | W18: ='SỐ LIỆU TỔNG HỢP'!R20 -> 2958 | X18: ='SỐ LIỆU TỔNG HỢP'!U20 -> 22.01 | Y18: ='SỐ LIỆU TỔNG HỢP'!X20 -> 9.29 | Z18: ='SỐ LIỆU TỔNG HỢP'!AA20 -> 22 | AA18: ='SỐ LIỆU TỔNG HỢP'!AD20 -> 6.85 | AB18: ='SỐ LIỆU TỔNG HỢP'!AG20 -> 59.6
A19: 10 | B19: Trần Triều | C19: Tân | D19: 1997 | E19: 176 | F19: ='SỐ LIỆU TỔNG HỢP'!E21 -> 4.65 | G19: ='SỐ LIỆU TỔNG HỢP'!K21 -> 7.97 | H19: ='SỐ LIỆU TỔNG HỢP'!N21 -> 264 | I19: ='SỐ LIỆU TỔNG HỢP'!Q21 -> 2863 | J19: ='SỐ LIỆU TỔNG HỢP'!T21 -> 21.89 | K19: ='SỐ LIỆU TỔNG HỢP'!W21 -> 8.57 | L19: ='SỐ LIỆU TỔNG HỢP'!Z21 -> 17 | M19: ='SỐ LIỆU TỔNG HỢP'!AC21 -> 6.45 | N19: ='SỐ LIỆU TỔNG HỢP'!AF21 -> 56 | O19: 10 | P19: Trần Triều | Q19: Tân | R19: 1997 | S19: 176 | T19: ='SỐ LIỆU TỔNG HỢP'!F21 -> 4.27 | U19: ='SỐ LIỆU TỔNG HỢP'!L21 -> 8.81 | V19: ='SỐ LIỆU TỔNG HỢP'!O21 -> 281 | W19: ='SỐ LIỆU TỔNG HỢP'!R21 -> 2935 | X19: ='SỐ LIỆU TỔNG HỢP'!U21 -> 21.14 | Y19: ='SỐ LIỆU TỔNG HỢP'!X21 -> 8.25 | Z19: ='SỐ LIỆU TỔNG HỢP'!AA21 -> 23 | AA19: ='SỐ LIỆU TỔNG HỢP'!AD21 -> 6.23 | AB19: ='SỐ LIỆU TỔNG HỢP'!AG21 -> 66
A20: 11 | B20: Đặng Phúc | C20: Nguyên | D20: 1995 | E20: 180 | F20: ='SỐ LIỆU TỔNG HỢP'!E22 -> 4.51 | G20: ='SỐ LIỆU TỔNG HỢP'!K22 -> 7.8 | H20: ='SỐ LIỆU TỔNG HỢP'!N22 -> 268 | I20: ='SỐ LIỆU TỔNG HỢP'!Q22 -> 2873 | J20: ='SỐ LIỆU TỔNG HỢP'!T22 -> 21.85 | K20: ='SỐ LIỆU TỔNG HỢP'!W22 -> 8.38 | L20: ='SỐ LIỆU TỔNG HỢP'!Z22 -> 19 | M20: ='SỐ LIỆU TỔNG HỢP'!AC22 -> 6.51 | N20: ='SỐ LIỆU TỔNG HỢP'!AF22 -> 55 | O20: 11 | P20: Đặng Phúc | Q20: Nguyên | R20: 1995 | S20: 180 | T20: ='SỐ LIỆU TỔNG HỢP'!F22 -> 4.18 | U20: ='SỐ LIỆU TỔNG HỢP'!L22 -> 8.57 | V20: ='SỐ LIỆU TỔNG HỢP'!O22 -> 287 | W20: ='SỐ LIỆU TỔNG HỢP'!R22 -> 2959 | X20: ='SỐ LIỆU TỔNG HỢP'!U22 -> 21.12 | Y20: ='SỐ LIỆU TỔNG HỢP'!X22 -> 8.05 | Z20: ='SỐ LIỆU TỔNG HỢP'!AA22 -> 26 | AA20: ='SỐ LIỆU TỔNG HỢP'!AD22 -> 6.18 | AB20: ='SỐ LIỆU TỔNG HỢP'!AG22 -> 64.5
A21: 12 | B21: Phan Văn | C21: Thái | D21: 1997 | E21: 179 | F21: ='SỐ LIỆU TỔNG HỢP'!E23 -> 4.53 | G21: ='SỐ LIỆU TỔNG HỢP'!K23 -> 7.85 | H21: ='SỐ LIỆU TỔNG HỢP'!N23 -> 270 | I21: ='SỐ LIỆU TỔNG HỢP'!Q23 -> 2880 | J21: ='SỐ LIỆU TỔNG HỢP'!T23 -> 22.07 | K21: ='SỐ LIỆU TỔNG HỢP'!W23 -> 8.58 | L21: ='SỐ LIỆU TỔNG HỢP'!Z23 -> 19 | M21: ='SỐ LIỆU TỔNG HỢP'!AC23 -> 7.52 | N21: ='SỐ LIỆU TỔNG HỢP'!AF23 -> 60.5 | O21: 12 | P21: Phan Văn | Q21: Thái | R21: 1997 | S21: 179 | T21: ='SỐ LIỆU TỔNG HỢP'!F23 -> 4.19 | U21: ='SỐ LIỆU TỔNG HỢP'!L23 -> 8.72 | V21: ='SỐ LIỆU TỔNG HỢP'!O23 -> 290 | W21: ='SỐ LIỆU TỔNG HỢP'!R23 -> 2952 | X21: ='SỐ LIỆU TỔNG HỢP'!U23 -> 21.12 | Y21: ='SỐ LIỆU TỔNG HỢP'!X23 -> 8.25 | Z21: ='SỐ LIỆU TỔNG HỢP'!AA23 -> 25 | AA21: ='SỐ LIỆU TỔNG HỢP'!AD23 -> 6.94 | AB21: ='SỐ LIỆU TỔNG HỢP'!AG23 -> 71
... A25: 16 | B25: Hồ Nguyễn Đắc | C25: Duy | D25: 1997 | E25: 171 | F25: ='SỐ LIỆU TỔNG HỢP'!E27 -> 4.53 | G25: ='SỐ LIỆU TỔNG HỢP'!K27 -> 7.93 | H25: ='SỐ LIỆU TỔNG HỢP'!N27 -> 268 | I25: ='SỐ LIỆU TỔNG HỢP'!Q27 -> 2897 | J25: ='SỐ LIỆU TỔNG HỢP'!T27 -> 22.07 | K25: ='SỐ LIỆU TỔNG HỢP'!W27 -> 8.42 | L25: ='SỐ LIỆU TỔNG HỢP'!Z27 -> 18 | M25: ='SỐ LIỆU TỔNG HỢP'!AC27 -> 6.78 | N25: ='SỐ LIỆU TỔNG HỢP'!AF27 -> 61 | O25: 16 | P25: Hồ Nguyễn Đắc | Q25: Duy | R25: 1997 | S25: 171 | T25: ='SỐ LIỆU TỔNG HỢP'!F27 -> 4.15 | U25: ='SỐ LIỆU TỔNG HỢP'!L27 -> 8.77 | V25: ='SỐ LIỆU TỔNG HỢP'!O27 -> 290 | W25: ='SỐ LIỆU TỔNG HỢP'!R27 -> 2969 | X25: ='SỐ LIỆU TỔNG HỢP'!U27 -> 21.15 | Y25: ='SỐ LIỆU TỔNG HỢP'!X27 -> 8 | Z25: ='SỐ LIỆU TỔNG HỢP'!AA27 -> 25 | AA25: ='SỐ LIỆU TỔNG HỢP'!AD27 -> 6.23 | AB25: ='SỐ LIỆU TỔNG HỢP'!AG27 -> 71
B26: Giá trị trung bình | F26: =AVERAGE(F10:F25) -> 4.524375 | G26: =AVERAGE(G10:G25) -> 7.7914375 | H26: =AVERAGE(H10:H25) -> 266.625 | I26: =AVERAGE(I10:I25) -> 2876.875 | J26: =AVERAGE(J10:J25) -> 22.034375 | K26: =AVERAGE(K10:K25) -> 8.678125 | L26: =AVERAGE(L10:L25) -> 17.40625 | M26: =AVERAGE(M10:M25) -> 7.115 | N26: =AVERAGE(N10:N25) -> 57.31875 | P26: Giá trị trung bình | T26: =AVERAGE(T10:T25) -> 4.205625 | U26: =AVERAGE(U10:U25) -> 8.54625 | V26: =AVERAGE(V10:V25) -> 286.125 | W26: =AVERAGE(W10:W25) -> 2959.25 | X26: =AVERAGE(X10:X25) -> 21.19625 | Y26: =AVERAGE(Y10:Y25) -> 8.33 | Z26: =AVERAGE(Z10:Z25) -> 23.8625 | AA26: =AVERAGE(AA10:AA25) -> 6.5775 | AB26: =AVERAGE(AB10:AB25) -> 66.98125
B27: Độ lệch chuẩn | F27: =STDEVP(F10:F25) -> 0.10161009 | G27: =STDEVP(G10:G25) -> 0.16829215 | H27: =STDEVP(H10:H25) -> 7.0522603 | I27: =STDEVP(I10:I25) -> 17.895094 | J27: =STDEVP(J10:J25) -> 0.93685624 | K27: =STDEVP(K10:K25) -> 0.4475659 | L27: =STDEVP(L10:L25) -> 1.0784646 | M27: =STDEVP(M10:M25) -> 0.55922938 | N27: =STDEVP(N10:N25) -> 4.3976157 | P27: Độ lệch chuẩn | T27: =STDEVP(T10:T25) -> 0.10452086 | U27: =STDEVP(U10:U25) -> 0.2152288 | V27: =STDEVP(V10:V25) -> 10.397566 | W27: =STDEVP(W10:W25) -> 17.394324 | X27: =STDEVP(X10:X25) -> 0.76618271 | Y27: =STDEVP(Y10:Y25) -> 0.40124805 | Z27: =STDEVP(Z10:Z25) -> 1.3085655 | AA27: =STDEVP(AA10:AA25) -> 0.39377182 | AB27: =STDEVP(AB10:AB25) -> 4.6705485
B28: Hệ số biến thiên | F28: =(F27/F26)*100 -> 2.2458369 | G28: =(G27/G26)*100 -> 2.1599627 | H28: =(H27/H26)*100 -> 2.6450109 | I28: =(I27/I26)*100 -> 0.62203237 | J28: =(J27/J26)*100 -> 4.251794 | K28: =(K27/K26)*100 -> 5.1574032 | L28: =(L27/L26)*100 -> 6.195847 | M28: =(M27/M26)*100 -> 7.8598648 | N28: =(N27/N26)*100 -> 7.6722114 | P28: Hệ số biến thiên | T28: =(T27/T26)*100 -> 2.4852633 | U28: =(U27/U26)*100 -> 2.5184005 | V28: =(V27/V26)*100 -> 3.6339243 | W28: =(W27/W26)*100 -> 0.58779501 | X28: =(X27/X26)*100 -> 3.6147088 | Y28: =(Y27/Y26)*100 -> 4.8169034 | Z28: =(Z27/Z26)*100 -> 5.4837738 | AA28: =(AA27/AA26)*100 -> 5.9866488 | AB28: =(AB27/AB26)*100 -> 6.9729193
B29: Sai số tương đối | F29: =(2.12*F27)/(F26*16^(1/2)) -> 0.011902936 | G29: =(2.12*G27)/(G26*16^(1/2)) -> 0.011447802 | H29: =(2.12*H27)/(H26*16^(1/2)) -> 0.014018558 | I29: =(2.12*I27)/(I26*16^(1/2)) -> 0.0032967715 | J29: =(2.12*J27)/(J26*16^(1/2)) -> 0.022534508 | K29: =(2.12*K27)/(K26*16^(1/2)) -> 0.027334237 | L29: =(2.12*L27)/(L26*16^(1/2)) -> 0.032837989 | M29: =(2.12*M27)/(M26*16^(1/2)) -> 0.041657283 | N29: =(2.12*N27)/(N26*16^(1/2)) -> 0.04066272 | P29: Sai số tương đối | T29: =(2.12*T27)/(T26*16^(1/2)) -> 0.013171896 | U29: =(2.12*U27)/(U26*16^(1/2)) -> 0.013347523 | V29: =(2.12*V27)/(V26*16^(1/2)) -> 0.019259799 | W29: =(2.12*W27)/(W26*16^(1/2)) -> 0.0031153135 | X29: =(2.12*X27)/(X26*16^(1/2)) -> 0.019157956 | Y29: =(2.12*Y27)/(Y26*16^(1/2)) -> 0.025529588 | Z29: =(2.12*Z27)/(Z26*16^(1/2)) -> 0.029064001 | AA29: =(2.12*AA27)/(AA26*16^(1/2)) -> 0.031729239 | AB29: =(2.12*AB27)/(AB26*16^(1/2)) -> 0.036956472
B32: Thang điểm C | P32: Thang điểm C
E33: ĐIỂM | F33: NỘI DUNG KIỂM TRA (Ban đầu) | S33: ĐIỂM | T33: NỘI DUNG KIỂM TRA (Sau 1 năm tập luyện)
F34: Chạy 30m XPC (giây) | G34: Bật xa 3 bước liên tục (cm) | H34: Bật xa tại chỗ (cm) | I34: Bóp lực kế tay thuận (kg) | J34: Chạy cây thông (giây) | K34: Chạy 9.3.6.3.9 (giây) | L34: Chạy 12 phút (mét) | M34: Chạy con thoi 4x10m (giây) | N34: Đứng gập thân (cm) | T34: Chạy 30m XPC (giây) | U34: Bật xa 3 bước liên tục (cm) | V34: Bật xa tại chỗ (cm) | W34: Bóp lực kế tay thuận (kg) | X34: Chạy cây thông (giây) | Y34: Chạy 9.3.6.3.9 (giây) | Z34: Chạy 12 phút (mét) | AA34: Chạy con thoi 4x10m (giây) | AB34: Đứng gập thân (cm)
E35: 10 | F35: =F26-2.5*F27 -> 4.2703498 | G35: =G26+2.5*G27 -> 8.2121679 | H35: =H26+2.5*H27 -> 284.25565 | I35: =N26+2.5*N27 -> 68.312789 | J35: =J26-2.5*J27 -> 19.692234 | K35: =M26-2.5*M27 -> 5.7169265 | L35: =I26+2.5*I27 -> 2921.6127 | M35: =K26-2.5*K27 -> 7.5592103 | N35: =L26+2.5*L27 -> 20.102412 | S35: 10 | T35: =T26-2.5*T27 -> 3.9443229 | U35: =U26+2.5*U27 -> 9.084322 | V35: =V26+2.5*V27 -> 312.11891 | W35: =AB26+2.5*AB27 -> 78.657621 | X35: =X26-2.5*X27 -> 19.280793 | Y35: =AA26-2.5*AA27 -> 5.5930704 | Z35: =W26+2.5*W27 -> 3002.7358 | AA35: =Y26-2.5*Y27 -> 7.3268799 | AB35: =Z26+2.5*Z27 -> 27.133914
E36: 9 | F36: =F26-2*F27 -> 4.3211548 | G36: =G26+2*G27 -> 8.1280218 | H36: =H26+2*H27 -> 280.72952 | I36: =N26+2*N27 -> 66.113981 | J36: =J26-2*J27 -> 20.160663 | K36: =M26-2*M27 -> 5.9965412 | L36: =I26+2*I27 -> 2912.6652 | M36: =K26-2*K27 -> 7.7829932 | N36: =L26+2*L27 -> 19.563179 | S36: 9 | T36: =T26-2*T27 -> 3.9965833 | U36: =U26+2*U27 -> 8.9767076 | V36: =V26+2*V27 -> 306.92013 | W36: =AB26+2*AB27 -> 76.322347 | X36: =X26-2*X27 -> 19.663885 | Y36: =AA26-2*AA27 -> 5.7899564 | Z36: =W26+2*W27 -> 2994.0386 | AA36: =Y26-2*Y27 -> 7.5275039 | AB36: =Z26+2*Z27 -> 26.479631
E37: 8 | F37: =F26-1.5*F27 -> 4.3719599 | G37: =G26+1.5*G27 -> 8.0438757 | H37: =H26+1.5*H27 -> 277.20339 | I37: =N26+1.5*N27 -> 63.915173 | J37: =J26-1.5*J27 -> 20.629091 | K37: =M26-1.5*M27 -> 6.2761559 | L37: =I26+1.5*I27 -> 2903.7176 | M37: =K26-1.5*K27 -> 8.0067762 | N37: =L26+1.5*L27 -> 19.023947 | S37: 8 | T37: =T26-1.5*T27 -> 4.0488437 | U37: =U26+1.5*U27 -> 8.8690932 | V37: =V26+1.5*V27 -> 301.72135 | W37: =AB26+1.5*AB27 -> 73.987073 | X37: =X26-1.5*X27 -> 20.046976 | Y37: =AA26-1.5*AA27 -> 5.9868423 | Z37: =W26+1.5*W27 -> 2985.3415 | AA37: =Y26-1.5*Y27 -> 7.7281279 | AB37: =Z26+1.5*Z27 -> 25.825348
E38: 7 | F38: =F26-F27 -> 4.4227649 | G38: =G26+G27 -> 7.9597296 | H38: =H26+H27 -> 273.67726 | I38: =N26+N27 -> 61.716366 | J38: =J26-J27 -> 21.097519 | K38: =M26-M27 -> 6.5557706 | L38: =I26+I27 -> 2894.7701 | M38: =K26-K27 -> 8.2305591 | N38: =L26+L27 -> 18.484715 | S38: 7 | T38: =T26-T27 -> 4.1011041 | U38: =U26+U27 -> 8.7614788 | V38: =V26+V27 -> 296.52257 | W38: =AB26+AB27 -> 71.651799 | X38: =X26-X27 -> 20.430067 | Y38: =AA26-AA27 -> 6.1837282 | Z38: =W26+W27 -> 2976.6443 | AA38: =Y26-Y27 -> 7.9287519 | AB38: =Z26+Z27 -> 25.171066
E39: 6 | F39: =F26-0.5*F27 -> 4.47357 | G39: =G26+0.5*G27 -> 7.8755836 | H39: =H26+0.5*H27 -> 270.15113 | I39: =N26+0.5*N27 -> 59.517558 | J39: =J26-0.5*J27 -> 21.565947 | K39: =M26-0.5*M27 -> 6.8353853 | L39: =I26+0.5*I27 -> 2885.8225 | M39: =K26-0.5*K27 -> 8.4543421 | N39: =L26+0.5*L27 -> 17.945482 | S39: 6 | T39: =T26-0.5*T27 -> 4.1533646 | U39: =U26+0.5*U27 -> 8.6538644 | V39: =V26+0.5*V27 -> 291.32378 | W39: =AB26+0.5*AB27 -> 69.316524 | X39: =X26-0.5*X27 -> 20.813159 | Y39: =AA26-0.5*AA27 -> 6.3806141 | Z39: =W26+0.5*W27 -> 2967.9472 | AA39: =Y26-0.5*Y27 -> 8.129376 | AB39: =Z26+0.5*Z27 -> 24.516783
E40: 5 | F40: =F26 -> 4.524375 | G40: =G26 -> 7.7914375 | H40: =H26 -> 266.625 | I40: =N26 -> 57.31875 | J40: =J26 -> 22.034375 | K40: =M26 -> 7.115 | L40: =I26 -> 2876.875 | M40: =K26 -> 8.678125 | N40: =L26 -> 17.40625 | S40: 5 | T40: =T26 -> 4.205625 | U40: =U26 -> 8.54625 | V40: =V26 -> 286.125 | W40: =AB26 -> 66.98125 | X40: =X26 -> 21.19625 | Y40: =AA26 -> 6.5775 | Z40: =W26 -> 2959.25 | AA40: =Y26 -> 8.33 | AB40: =Z26 -> 23.8625
E41: 4 | F41: =F26+0.5*F27 -> 4.57518 | G41: =G26-0.5*G27 -> 7.7072914 | H41: =H26-0.5*H27 -> 263.09887 | I41: =N26-0.5*N27 -> 55.119942 | J41: =J26+0.5*J27 -> 22.502803 | K41: =M26+0.5*M27 -> 7.3946147 | L41: =I26-0.5*I27 -> 2867.9275 | M41: =K26+0.5*K27 -> 8.9019079 | N41: =L26-0.5*L27 -> 16.867018 | S41: 4 | T41: =T26+0.5*T27 -> 4.2578854 | U41: =U26-0.5*U27 -> 8.4386356 | V41: =V26-0.5*V27 -> 280.92622 | W41: =AB26-0.5*AB27 -> 64.645976 | X41: =X26+0.5*X27 -> 21.579341 | Y41: =AA26+0.5*AA27 -> 6.7743859 | Z41: =W26-0.5*W27 -> 2950.5528 | AA41: =Y26+0.5*Y27 -> 8.530624 | AB41: =Z26-0.5*Z27 -> 23.208217
E42: 3 | F42: =F26+F27 -> 4.6259851 | G42: =G26-G27 -> 7.6231454 | H42: =H26-H27 -> 259.57274 | I42: =N26-N27 -> 52.921134 | J42: =J26+J27 -> 22.971231 | K42: =M26+M27 -> 7.6742294 | L42: =I26-I27 -> 2858.9799 | M42: =K26+K27 -> 9.1256909 | N42: =L26-L27 -> 16.327785 | S42: 3 | T42: =T26+T27 -> 4.3101459 | U42: =U26-U27 -> 8.3310212 | V42: =V26-V27 -> 275.72743 | W42: =AB26-AB27 -> 62.310701 | X42: =X26+X27 -> 21.962433 | Y42: =AA26+AA27 -> 6.9712718 | Z42: =W26-W27 -> 2941.8557 | AA42: =Y26+Y27 -> 8.7312481 | AB42: =Z26-Z27 -> 22.553934
E43: 2 | F43: =F26+1.5*F27 -> 4.6767901 | G43: =G26-1.5*G27 -> 7.5389993 | H43: =H26-1.5*H27 -> 256.04661 | I43: =N26-1.5*N27 -> 50.722327 | J43: =J26+1.5*J27 -> 23.439659 | K43: =M26+1.5*M27 -> 7.9538441 | L43: =I26-1.5*I27 -> 2850.0324 | M43: =K26+1.5*K27 -> 9.3494738 | N43: =L26-1.5*L27 -> 15.788553 | S43: 2 | T43: =T26+1.5*T27 -> 4.3624063 | U43: =U26-1.5*U27 -> 8.2234068 | V43: =V26-1.5*V27 -> 270.52865 | W43: =AB26-1.5*AB27 -> 59.975427 | X43: =X26+1.5*X27 -> 22.345524 | Y43: =AA26+1.5*AA27 -> 7.1681577 | Z43: =W26-1.5*W27 -> 2933.1585 | AA43: =Y26+1.5*Y27 -> 8.9318721 | AB43: =Z26-1.5*Z27 -> 21.899652
E44: 1 | F44: =F26+2*F27 -> 4.7275952 | G44: =G26-2*G27 -> 7.4548532 | H44: =H26-2*H27 -> 252.52048 | I44: =N26-2*N27 -> 48.523519 | J44: =J26+2*J27 -> 23.908087 | K44: =M26+2*M27 -> 8.2334588 | L44: =I26-2*I27 -> 2841.0848 | M44: =K26+2*K27 -> 9.5732568 | N44: =L26-2*L27 -> 15.249321 | S44: 1 | T44: =T26+2*T27 -> 4.4146667 | U44: =U26-2*U27 -> 8.1157924 | V44: =V26-2*V27 -> 265.32987 | W44: =AB26-2*AB27 -> 57.640153 | X44: =X26+2*X27 -> 22.728615 | Y44: =AA26+2*AA27 -> 7.3650436 | Z44: =W26-2*W27 -> 2924.4614 | AA44: =Y26+2*Y27 -> 9.1324961 | AB44: =Z26-2*Z27 -> 21.245369
E45: 0 | F45: =F26+2.5*F27 -> 4.7784002 | G45: =G26-2.5*G27 -> 7.3707071 | H45: =H26-2.5*H27 -> 248.99435 | I45: =N26-2.5*N27 -> 46.324711 | J45: =J26+2.5*J27 -> 24.376516 | K45: =M26+2.5*M27 -> 8.5130735 | L45: =I26-2.5*I27 -> 2832.1373 | M45: =K26+2.5*K27 -> 9.7970397 | N45: =L26-2.5*L27 -> 14.710088 | S45: 0 | T45: =T26+2.5*T27 -> 4.4669271 | U45: =U26-2.5*U27 -> 8.008178 | V45: =V26-2.5*V27 -> 260.13109 | W45: =AB26-2.5*AB27 -> 55.304879 | X45: =X26+2.5*X27 -> 23.111707 | Y45: =AA26+2.5*AA27 -> 7.5619296 | Z45: =W26-2.5*W27 -> 2915.7642 | AA45: =Y26+2.5*Y27 -> 9.3331201 | AB45: =Z26-2.5*Z27 -> 20.591086

Sheet các bảng
A1: TT | B1: TÊN TEST | C1: Ban đầu | D1: Sau 1 năm | E1: d | F1: W% | G1: t | H1: P | K1: TT | L1: TÊN TEST | M1: r | AA1: MỨC PHÂN LOẠI | AB1: ĐIỂM TỔNG HỢP
A2: 1 | B2: Chạy 30m XPC (giây) | C2: ='SỐ LIỆU TỔNG HỢP'!E29 -> 4.524375 | D2: ='SỐ LIỆU TỔNG HỢP'!F29 -> 4.205625 | E2: =D2-C2 -> -0.31875 | F2: 7.3024055 | G2: 27.348695 | H2: <0,05 | K2: 1 | L2: Chạy 30m XPC (giây) | M2: =Q4 -> 0.80653855 | AA2: Tốt | AB2: ≥ 80
A3: 2 | B3: Bật cao tại chỗ (cm) | C3: ='SỐ LIỆU TỔNG HỢP'!H29 -> 59.625 | D3: ='SỐ LIỆU TỔNG HỢP'!I29 -> 67.0625 | E3: =D3-C3 -> 7.4375 | F3: 11.74149 | G3: 18.375776 | K3: 2 | L3: Bật cao tại chỗ (cm) | M3: =R4 -> 0.85246104 | AA3: Khá | AB3: 60 → < 80
A4: 3 | B4: Bật xa 3 bước liên tục (cm) | C4: ='SỐ LIỆU TỔNG HỢP'!K29 -> 7.7914375 | D4: ='SỐ LIỆU TỔNG HỢP'!L29 -> 8.54625 | E4: =D4-C4 -> 0.7548125 | F4: 9.2401388 | G4: 38.43014 | K4: 3 | L4: Bật xa 3 bước liên tục (cm) | M4: =S4 -> 0.89341619 | Q4: ='SỐ LIỆU TỔNG HỢP'!R39 -> 0.80653855 | R4: ='SỐ LIỆU TỔNG HỢP'!S39 -> 0.85246104 | S4: ='SỐ LIỆU TỔNG HỢP'!T39 -> 0.89341619 | T4: ='SỐ LIỆU TỔNG HỢP'!U39 -> 0.90280712 | U4: ='SỐ LIỆU TỔNG HỢP'!V39 -> 0.81585398 | V4: ='SỐ LIỆU TỔNG HỢP'!X39 -> 0.93627515 | W4: ='SỐ LIỆU TỔNG HỢP'!Y39 -> 0.79586228 | X4: ='SỐ LIỆU TỔNG HỢP'!Z39 -> 0.82451912 | Y4: ='SỐ LIỆU TỔNG HỢP'!AA39 -> 0.79837551 | AA4: Trung bình | AB4: 40 → < 60
A5: 4 | B5: Bật xa tại chỗ (cm) | C5: ='SỐ LIỆU TỔNG HỢP'!N29 -> 266.625 | D5: ='SỐ LIỆU TỔNG HỢP'!O29 -> 286.125 | E5: =D5-C5 -> 19.5 | F5: 7.0556309 | G5: 18.134632 | K5: 4 | L5: Bật xa tại chỗ (cm) | M5: =T4 -> 0.90280712 | AA5: Yếu | AB5: 20 → < 60
A6: 5 | B6: Bóp lực kế tay thuận (kg) | C6: ='SỐ LIỆU TỔNG HỢP'!AF29 -> 57.31875 | D6: ='SỐ LIỆU TỔNG HỢP'!AG29 -> 66.98125 | E6: =D6-C6 -> 9.6625 | F6: 15.547064 | G6: 18.324753 | K6: 5 | L6: Bóp lực kế tay thuận (kg) | M6: =Y4 -> 0.79837551 | Q6: 7.3024055 | R6: 11.74149 | S6: 9.2401388 | T6: 7.0556309 | U6: 2.7384345 | V6: 4.0936317 | W6: 31.288808 | X6: 7.8510133 | Y6: 15.547064 | AA6: Kém | AB6: ≤ 20
A7: 6 | B7: Chạy cây thông (giây) | C7: ='SỐ LIỆU TỔNG HỢP'!T29 -> 22.034375 | D7: ='SỐ LIỆU TỔNG HỢP'!U29 -> 21.19625 | E7: =D7-C7 -> -0.838125 | F7: 3.8774596 | G7: 11.007182 | K7: 6 | L7: Chạy cây thông (giây) | M7: 0.91 | Q7: 27.348695 | R7: 18.375776 | S7: 38.43014 | T7: 18.134632 | U7: 29.650855 | V7: 11.863321 | W7: 43.19426 | X7: 8.2520822 | Y7: 18.324753
A8: 7 | B8: Chạy 9.3.6.3.9 (giây) | C8: ='SỐ LIỆU TỔNG HỢP'!AC29 -> 7.115 | D8: ='SỐ LIỆU TỔNG HỢP'!AD29 -> 6.5775 | E8: =D8-C8 -> -0.5375 | F8: 7.8510133 | G8: 8.2520822 | K8: 7 | L8: Chạy 9.3.6.3.9 (giây) | M8: =X4 -> 0.82451912
A9: 8 | B9: Chạy 12 phút (mét) | C9: ='SỐ LIỆU TỔNG HỢP'!Q29 -> 2876.875 | D9: ='SỐ LIỆU TỔNG HỢP'!R29 -> 2959.25 | E9: =D9-C9 -> 82.375 | F9: 2.7384345 | G9: 29.650855 | K9: 8 | L9: Chạy 12 phút (mét) | M9: =U4 -> 0.81585398
A10: 9 | B10: Chạy con thoi 4x10m (giây) | C10: ='SỐ LIỆU TỔNG HỢP'!W29 -> 8.678125 | D10: ='SỐ LIỆU TỔNG HỢP'!X29 -> 8.33 | E10: =D10-C10 -> -0.348125 | F10: 4.0936317 | G10: 11.863321 | K10: 9 | L10: Chạy con thoi 4x10m (giây) | M10: =V4 -> 0.93627515 | O10: `
A11: 10 | B11: Đứng gập thân (cm) | C11: ='SỐ LIỆU TỔNG HỢP'!Z29 -> 17.40625 | D11: ='SỐ LIỆU TỔNG HỢP'!AA29 -> 23.8625 | E11: =D11-C11 -> 6.45625 | F11: 31.288808 | G11: 43.19426 | K11: 10 | L11: Đứng gập thân (cm) | M11: =W4 -> 0.79586228
F12: ='SỐ LIỆU TỔNG HỢP'!E36 -> 10.082058
Q18: TT | R18: TÊN TEST | S18: Ban đầu | V18: Sau 1 năm tập luyện
S19: 1 | T19: S | U19: Cv % | V19: 2 | W19: S | X19: Cv %
Q20: 1 | R20: Chạy 30m XPC (giây) | S20: =C2 -> 4.524375 | T20: ='THANG ĐIỂM C(in)'!F27 -> 0.10161009 | U20: ='THANG ĐIỂM C(in)'!F28 -> 2.2458369 | V20: =D2 -> 4.205625 | W20: ='THANG ĐIỂM C(in)'!T27 -> 0.10452086 | X20: ='THANG ĐIỂM C(in)'!T28 -> 2.4852633
Q21: 2 | R21: Bật cao tại chỗ (cm) | S21: =C3 -> 59.625 | T21: ='THANG ĐIỂM C(in)'!#REF! -> #REF! | U21: ='THANG ĐIỂM C(in)'!#REF! -> #REF! | V21: =D3 -> 67.0625 | W21: ='THANG ĐIỂM C(in)'!#REF! -> #REF! | X21: ='THANG ĐIỂM C(in)'!#REF! -> #REF!
Q22: 3 | R22: Bật xa 3 bước liên tục (cm) | S22: =C4 -> 7.7914375 | T22: ='THANG ĐIỂM C(in)'!G27 -> 0.16829215 | U22: ='THANG ĐIỂM C(in)'!G28 -> 2.1599627 | V22: =D4 -> 8.54625 | W22: ='THANG ĐIỂM C(in)'!U27 -> 0.2152288 | X22: ='THANG ĐIỂM C(in)'!U28 -> 2.5184005
Q23: 4 | R23: Bật xa tại chỗ (cm) | S23: =C5 -> 266.625 | T23: ='THANG ĐIỂM C(in)'!H27 -> 7.0522603 | U23: ='THANG ĐIỂM C(in)'!H28 -> 2.6450109 | V23: =D5 -> 286.125 | W23: ='THANG ĐIỂM C(in)'!V27 -> 10.397566 | X23: ='THANG ĐIỂM C(in)'!V28 -> 3.6339243
Q24: 5 | R24: Bóp lực kế tay thuận (kg) | S24: =C6 -> 57.31875 | T24: ='THANG ĐIỂM C(in)'!N27 -> 4.3976157 | U24: ='THANG ĐIỂM C(in)'!N28 -> 7.6722114 | V24: =D6 -> 66.98125 | W24: ='THANG ĐIỂM C(in)'!AB27 -> 4.6705485 | X24: ='THANG ĐIỂM C(in)'!AB28 -> 6.9729193
Q25: 6 | R25: Chạy cây thông (giây) | S25: =C7 -> 22.034375 | T25: ='THANG ĐIỂM C(in)'!J27 -> 0.93685624 | U25: ='THANG ĐIỂM C(in)'!J28 -> 4.251794 | V25: =D7 -> 21.19625 | W25: ='THANG ĐIỂM C(in)'!X27 -> 0.76618271 | X25: ='THANG ĐIỂM C(in)'!X28 -> 3.6147088
Q26: 7 | R26: Chạy 9.3.6.3.9 (giây) | S26: =C8 -> 7.115 | T26: ='THANG ĐIỂM C(in)'!M27 -> 0.55922938 | U26: ='THANG ĐIỂM C(in)'!M28 -> 7.8598648 | V26: =D8 -> 6.5775 | W26: ='THANG ĐIỂM C(in)'!AA27 -> 0.39377182 | X26: ='THANG ĐIỂM C(in)'!AA28 -> 5.9866488
Q27: 8 | R27: Chạy 12 phút (mét) | S27: =C9 -> 2876.875 | T27: ='THANG ĐIỂM C(in)'!I27 -> 17.895094 | U27: ='THANG ĐIỂM C(in)'!I28 -> 0.62203237 | V27: =D9 -> 2959.25 | W27: ='THANG ĐIỂM C(in)'!W27 -> 17.394324 | X27: ='THANG ĐIỂM C(in)'!W28 -> 0.58779501
Q28: 9 | R28: Chạy con thoi 4x10m (giây) | S28: =C10 -> 8.678125 | T28: ='THANG ĐIỂM C(in)'!K27 -> 0.4475659 | U28: ='THANG ĐIỂM C(in)'!K28 -> 5.1574032 | V28: =D10 -> 8.33 | W28: ='THANG ĐIỂM C(in)'!Y27 -> 0.40124805 | X28: ='THANG ĐIỂM C(in)'!Y28 -> 4.8169034
Q29: 10 | R29: Đứng gập thân (cm) | S29: =C11 -> 17.40625 | T29: ='THANG ĐIỂM C(in)'!L27 -> 1.0784646 | U29: ='THANG ĐIỂM C(in)'!L28 -> 6.195847 | V29: =D11 -> 23.8625 | W29: ='THANG ĐIỂM C(in)'!Z27 -> 1.3085655 | X29: ='THANG ĐIỂM C(in)'!Z28 -> 5.4837738
Q32: TT | R32: TÊN TEST | S32: Sau 1 năm tập luyện
S33: Sau 1 năm | T33: S | U33: Cv % | V33: ع
Q34: 1 | R34: Chạy 30m XPC (giây) | S34: =V20 -> 4.205625 | T34: =W20 -> 0.10452086 | U34: =X20 -> 2.4852633 | V34: 0.013171896
Q35: 2 | R35: Bật cao tại chỗ (cm) | S35: =V21 -> 67.0625 | T35: =W21 -> #REF! | U35: =X21 -> #REF! | V35: 0.017330264
Q36: 3 | R36: Bật xa 3 bước liên tục (cm) | S36: =V22 -> 8.54625 | T36: =W22 -> 0.2152288 | U36: =X22 -> 2.5184005 | V36: 0.013347523
Q37: 4 | R37: Bật xa tại chỗ (cm) | S37: =V23 -> 286.125 | T37: =W23 -> 10.397566 | U37: =X23 -> 3.6339243 | V37: 0.019259799
Q38: 5 | R38: Bóp lực kế tay thuận (kg) | S38: =V24 -> 66.98125 | T38: =W24 -> 4.6705485 | U38: =X24 -> 6.9729193 | V38: 0.036956472
Q39: 6 | R39: Chạy cây thông (giây) | S39: =V25 -> 21.19625 | T39: =W25 -> 0.76618271 | U39: =X25 -> 3.6147088 | V39: 0.019157956
Q40: 7 | R40: Chạy 9.3.6.3.9 (giây) | S40: =V26 -> 6.5775 | T40: =W26 -> 0.39377182 | U40: =X26 -> 5.9866488 | V40: 0.031729239
Q41: 8 | R41: Chạy 12 phút (mét) | S41: =V27 -> 2959.25 | T41: =W27 -> 17.394324 | U41: =X27 -> 0.58779501 | V41: ='SỐ LIỆU TỔNG HỢP'!R32 -> 0.0031153135
Q42: 9 | R42: Chạy con thoi 4x10m (giây) | S42: =V28 -> 8.33 | T42: =W28 -> 0.40124805 | U42: =X28 -> 4.8169034 | V42: 0.025529588
Q43: 10 | R43: Đứng gập thân (cm) | S43: =V29 -> 23.8625 | T43: =W29 -> 1.3085655 | U43: =X29 -> 5.4837738 | V43: 0.029064001
Q45: TT | R45: TÊN TEST | S45: Ban đầu
S46: 1 | T46: S | U46: Cv % | V46: ع
Q47: 1 | R47: Chạy 30m XPC (giây) | S47: =S20 -> 4.524375 | T47: =T20 -> 0.10161009 | U47: =U20 -> 2.2458369 | V47: ='SỐ LIỆU TỔNG HỢP'!E32 -> 0.011902936
Q48: 2 | R48: Bật cao tại chỗ (cm) | S48: =S21 -> 59.625 | T48: =T21 -> #REF! | U48: =U21 -> #REF! | V48: ='SỐ LIỆU TỔNG HỢP'!H32 -> 0.030286696
Q49: 3 | R49: Bật xa 3 bước liên tục (cm) | S49: =S22 -> 7.7914375 | T49: =T22 -> 0.16829215 | U49: =U22 -> 2.1599627 | V49: ='SỐ LIỆU TỔNG HỢP'!K32 -> 0.011447802
Q50: 4 | R50: Bật xa tại chỗ (cm) | S50: =S23 -> 266.625 | T50: =T23 -> 7.0522603 | U50: =U23 -> 2.6450109 | V50: ='SỐ LIỆU TỔNG HỢP'!N32 -> 0.014018558
Q51: 5 | R51: Bóp lực kế tay thuận (kg) | S51: =S24 -> 57.31875 | T51: =T24 -> 4.3976157 | U51: =U24 -> 7.6722114 | V51: ='SỐ LIỆU TỔNG HỢP'!AF32 -> 0.04066272
Q52: 6 | R52: Chạy cây thông (giây) | S52: =S25 -> 22.034375 | T52: =T25 -> 0.93685624 | U52: =U25 -> 4.251794 | V52: ='SỐ LIỆU TỔNG HỢP'!T32 -> 0.022534508
Q53: 7 | R53: Chạy 9.3.6.3.9 (giây) | S53: =S26 -> 7.115 | T53: =T26 -> 0.55922938 | U53: =U26 -> 7.8598648 | V53: ='SỐ LIỆU TỔNG HỢP'!AC32 -> 0.041657283
Q54: 8 | R54: Chạy 12 phút (mét) | S54: =S27 -> 2876.875 | T54: =T27 -> 17.895094 | U54: =U27 -> 0.62203237 | V54: ='SỐ LIỆU TỔNG HỢP'!Q32 -> 0.0032967715
Q55: 9 | R55: Chạy con thoi 4x10m (giây) | S55: =S28 -> 8.678125 | T55: =T28 -> 0.4475659 | U55: =U28 -> 5.1574032 | V55: ='SỐ LIỆU TỔNG HỢP'!W32 -> 0.027334237
Q56: 10 | R56: Đứng gập thân (cm) | S56: =S29 -> 17.40625 | T56: =T29 -> 1.0784646 | U56: =U29 -> 6.195847 | V56: ='SỐ LIỆU TỔNG HỢP'!Z32 -> 0.032837989

Sheet viết tắt
A1: VIẾT TẮT | B1: TỪ, THUẬT NGỮ TIẾNG VIỆT | G1: THỜI GIAN
A2: BGH | B2: Ban giám hiệu . | E2: TT | F2: NỘI DUNG | I2: ĐỊA ĐIỂM
A3: CĐSP TDTT | B3: Cao đẳng Sư phạm thể dục thể thao . | F3: CÔNG VIỆC | G3: Bắt | H3: Kết
A4: CLB | B4: Câu lạc bộ. | G4: đầu | H4: thúc
A5: CT | B5: Cần Thơ . | E5: 1 | F5: Thu thập và tổng hợp tài liệu có liên quan. | G5: 41456 | H5: 41487
A6: CĐ | B6: Cao Đẳng | E6: 2 | F6: Trình giáo viên hướng dẫn góp ý. | G6: 41491 | H6: 41506 | I6: ĐHSP.TDTT
A7: ĐHSP TDTT | B7: Đại học sư phạm thể dục thể thao. | E7: 3 | F7: Xây dựng và bảo vệ đề cương | G7: 41506 | H7: 41510 | I7: TP. HCM
A8: GD & ĐT | B8: Giáo dục và đào tạo. | E8: 4 | F8: Tham khảo tài liệu và xây dựng chương tổng quan. | G8: 41518 | H8: 41547
A9: GDTC | B9: Giáo dục thể chất. | E9: 5 | F9: Tiến hành phỏng vấn chuyên gia | G9: 41548 | H9: 41577
A10: TCCN | B10: Trung Cấp Chuyên Nghiệp | E10: 6 | F10: Tổ chức kiểm tra trình độ thể lực và xử lí số liệu lần 1. | G10: 41609 | H10: 41638 | I10: Đại học Cần thơ
A11: VĐ | B11: Vận Động | E11: 7 | F11: Tổ chức kiểm tra trình độ thể lực và xử lí số liệu lần 2. | G11: 41974 | H11: 42003
A12: TW | B12: Trung Ương | E12: 8 | F12: Lập thang điểm về thể lực | G12: 42005 | H12: 42034
A13: FIVB | B13: Federation international voller ball | E13: 9 | F13: Viết các chương còn lại và trình thầy hướng dẫn góp ý. | G13: 42036 | H13: 30 - 02 - 15
A14: TDTT | B14: Thể dục thể thao. | E14: 10 | F14: Hoàn chỉnh luận văn. | G14: 42064
A15: TL | B15: Thể lực | E15: 11 | F15: Nộp luận văn | G15: Theo lịch nhà trường | I15: ĐHSP.TDTT
A16: TP HCM | B16: Thành phố Hồ Chí Minh . | E16: 12 | F16: Tóm tắt, bảo vệ luận văn | G16: Theo lịch nhà trường | I16: TP. HCM
A17: TW | B17: Trung ương.
A18: VĐV | B18: Vận động viên.
A19: VH – TT – DL | B19: Văn hóa – Thể thao – Du lịch .

Sheet SỐ LIỆU TỔNG HỢP
A1: BỘ GIÁO DỤC VÀ ĐÀO TẠO | K1: CỘNG HOÀ XÃ HỘI CHỦ NGHĨA VIỆT NAM
A2: TRƯỜNG ĐẠI HỌC CẦN THƠ | K2: Độc lập - Tự do - Hạnh phúc
A3: TỔ: GIÁO DỤC THỂ CHẤT
D4: BẢNG KIỂM TRA SỐ LIỆU ĐỘI TUYỂN BÓNG CHUYỀN NAM TRƯỜNG ĐẠI HỌC CẦN THƠ
D5: Năm học: 2013 - 2014
A7: TT | B7: Họ và Tên | D7: Năm sinh VĐV | E7: NỘI DUNG
E8: Chạy 30m XPC (giây) | H8: Bật cao tại chỗ (cm) | K8: Bật xa 3 bước liên tục (cm) | N8: Bật xa tại chỗ (cm) | Q8: Chạy 12 phút (mét) | T8: Chạy cây thông (giây) | W8: Chạy con thoi 4x10m (giây) | Z8: Đứng gập thân (cm) | AC8: Chạy 9.3.6.3.9 (giây) | AF8: Bóp lực kế tay thuận (kg) | AI8: Ghi chú
E11: Lần 1 | F11: Lần 2 | G11: d | H11: Lần 1 | I11: Lần 2 | J11: d | K11: Lần 1 | L11: Lần 2 | M11: d | N11: Lần 1 | O11: Lần 2 | P11: d | Q11: Lần 1 | R11: Lần 2 | S11: d | T11: Lần 1 | U11: Lần 2 | V11: d | W11: Lần 1 | X11: Lần 2 | Y11: d | Z11: Lần 1 | AA11: Lần 2 | AB11: d | AC11: Lần 1 | AD11: Lần 2 | AE11: d | AF11: Lần 1 | AG11: Lần 2 | AH11: d
A12: 1 | B12: Nguyễn Vệ | C12: Thanh | D12: 1992 | E12: 4.45 | F12: 4.12 | G12: =F12-E12 -> -0.33 | H12: 60 | I12: 67 | J12: =I12-H12 -> 7 | K12: 7.51 | L12: 8.17 | M12: =L12-K12 -> 0.66 | N12: 255 | O12: 274 | P12: =O12-N12 -> 19 | Q12: 2875 | R12: 2962 | S12: =R12-Q12 -> 87 | T12: 19.5 | U12: 19.21 | V12: =U12-T12 -> -0.29 | W12: 8.35 | X12: 8.11 | Y12: =X12-W12 -> -0.24 | Z12: 16 | AA12: 22 | AB12: =AA12-Z12 -> 6 | AC12: 5.9 | AD12: 5.8 | AE12: =AD12-AC12 -> -0.1 | AF12: 57 | AG12: 69.1 | AH12: =AG12-AF12 -> 12.1
A13: 2 | B13: Nguyễn Chí | C13: Linh | D13: 1991 | E13: 4.48 | F13: 4.19 | G13: =F13-E13 -> -0.29 | H13: 68 | I13: 72 | J13: =I13-H13 -> 4 | K13: 8.05 | L13: 8.89 | M13: =L13-K13 -> 0.84 | N13: 261 | O13: 275 | P13: =O13-N13 -> 14 | Q13: 2833 | R13: 2923 | S13: =R13-Q13 -> 90 | T13: 21.85 | U13: 21.25 | V13: =U13-T13 -> -0.6 | W13: 8.25 | X13: 8 | Y13: =X13-W13 -> -0.25 | Z13: 16 | AA13: 23 | AB13: =AA13-Z13 -> 7 | AC13: 7.55 | AD13: 7.09 | AE13: =AD13-AC13 -> -0.46 | AF13: 49 | AG13: 57.3 | AH13: =AG13-AF13 -> 8.3
A14: 3 | B14: Phạm Vũ | C14: Linh | D14: 1993 | E14: 4.67 | F14: 4.33 | G14: =F14-E14 -> -0.34 | H14: 59 | I14: 64 | J14: =I14-H14 -> 5 | K14: 7.59 | L14: 8.31 | M14: =L14-K14 -> 0.72 | N14: 268 | O14: 286 | P14: =O14-N14 -> 18 | Q14: 2890 | R14: 2965 | S14: =R14-Q14 -> 75 | T14: 22.9 | U14: 21.5 | V14: =U14-T14 -> -1.4 | W14: 9.05 | X14: 8.6 | Y14: =X14-W14 -> -0.45 | Z14: 16 | AA14: 22 | AB14: =AA14-Z14 -> 6 | AC14: 7.62 | AD14: 7.05 | AE14: =AD14-AC14 -> -0.57 | AF14: 51 | AG14: 62.4 | AH14: =AG14-AF14 -> 11.4
A15: 4 | B15: Nguyễn Minh | C15: Luân | D15: 1990 | E15: 4.39 | F15: 4.12 | G15: =F15-E15 -> -0.27 | H15: 60 | I15: 67 | J15: =I15-H15 -> 7 | K15: 7.81 | L15: 8.45 | M15: =L15-K15 -> 0.64 | N15: 265 | O15: 282 | P15: =O15-N15 -> 17 | Q15: 2899 | R15: 2991 | S15: =R15-Q15 -> 92 | T15: 20.7 | U15: 19.65 | V15: =U15-T15 -> -1.05 | W15: 8.9 | X15: 8.58 | Y15: =X15-W15 -> -0.32 | Z15: 18 | AA15: 25 | AB15: =AA15-Z15 -> 7 | AC15: 7.3 | AD15: 6.82 | AE15: =AD15-AC15 -> -0.48 | AF15: 66 | AG15: 76.1 | AH15: =AG15-AF15 -> 10.1
A16: 5 | B16: Lý Thanh | C16: Hải | D16: 1994 | E16: 4.45 | F16: 4.16 | G16: =F16-E16 -> -0.29 | H16: 62 | I16: 69 | J16: =I16-H16 -> 7 | K16: 7.56 | L16: 8.21 | M16: =L16-K16 -> 0.65 | N16: 261 | O16: 276 | P16: =O16-N16 -> 15 | Q16: 2870 | R16: 2960 | S16: =R16-Q16 -> 90 | T16: 21.35 | U16: 21.1 | V16: =U16-T16 -> -0.25 | W16: 8.6 | X16: 8.47 | Y16: =X16-W16 -> -0.13 | Z16: 18 | AA16: 25 | AB16: =AA16-Z16 -> 7 | AC16: 7.89 | AD16: 7.07 | AE16: =AD16-AC16 -> -0.82 | AF16: 64 | AG16: 70.1 | AH16: =AG16-AF16 -> 6.1
A17: 6 | B17: Tăng Linh | C17: Tâm | D17: 1992 | E17: 4.43 | F17: 4.17 | G17: =F17-E17 -> -0.26 | H17: 55 | I17: 65 | J17: =I17-H17 -> 10 | K17: 7.823 | L17: 8.45 | M17: =L17-K17 -> 0.627 | N17: 275 | O17: 308 | P17: =O17-N17 -> 33 | Q17: 2863 | R17: 2939 | S17: =R17-Q17 -> 76 | T17: 22.7 | U17: 21.58 | V17: =U17-T17 -> -1.12 | W17: 9.1 | X17: 8.62 | Y17: =X17-W17 -> -0.48 | Z17: 16 | AA17: 22 | AB17: =AA17-Z17 -> 6 | AC17: 6.26 | AD17: 6.08 | AE17: =AD17-AC17 -> -0.18 | AF17: 57.4 | AG17: 72.1 | AH17: =AG17-AF17 -> 14.7
A18: 7 | B18: Nguyễn Duy | C18: Khang | D18: 1993 | E18: 4.53 | F18: 4.26 | G18: =F18-E18 -> -0.27 | H18: 55 | I18: 65 | J18: =I18-H18 -> 10 | K18: 8.06 | L18: 8.76 | M18: =L18-K18 -> 0.7 | N18: 270 | O18: 289 | P18: =O18-N18 -> 19 | Q18: 2895 | R18: 2966 | S18: =R18-Q18 -> 71 | T18: 23.3 | U18: 22.15 | V18: =U18-T18 -> -1.15 | W18: 8.58 | X18: 8.1 | Y18: =X18-W18 -> -0.48 | Z18: 17 | AA18: 24 | AB18: =AA18-Z18 -> 7 | AC18: 7.55 | AD18: 6.83 | AE18: =AD18-AC18 -> -0.72 | AF18: 57 | AG18: 66.2 | AH18: =AG18-AF18 -> 9.2
A19: 8 | B19: Huỳnh Công | C19: Quý | D19: 1994 | E19: 4.75 | F19: 4.52 | G19: =F19-E19 -> -0.23 | H19: 60 | I19: 67 | J19: =I19-H19 -> 7 | K19: 7.79 | L19: 8.62 | M19: =L19-K19 -> 0.83 | N19: 280 | O19: 302 | P19: =O19-N19 -> 22 | Q19: 2910 | R19: 2995 | S19: =R19-Q19 -> 85 | T19: 23.45 | U19: 22.24 | V19: =U19-T19 -> -1.21 | W19: 9.25 | X19: 9.05 | Y19: =X19-W19 -> -0.2 | Z19: 18 | AA19: 24.5 | AB19: =AA19-Z19 -> 6.5 | AC19: 7.56 | AD19: 6.34 | AE19: =AD19-AC19 -> -1.22 | AF19: 58 | AG19: 64.3 | AH19: =AG19-AF19 -> 6.3
A20: 9 | B20: Trịnh Nguyễn | C20: Tính | D20: 1992 | E20: 4.35 | F20: 4.03 | G20: =F20-E20 -> -0.32 | H20: 64 | I20: 70 | J20: =I20-H20 -> 6 | K20: 7.91 | L20: 8.68 | M20: =L20-K20 -> 0.77 | N20: 280 | O20: 304 | P20: =O20-N20 -> 24 | Q20: 2867 | R20: 2958 | S20: =R20-Q20 -> 91 | T20: 22.61 | U20: 22.01 | V20: =U20-T20 -> -0.6 | W20: 9.89 | X20: 9.29 | Y20: =X20-W20 -> -0.6 | Z20: 17 | AA20: 22 | AB20: =AA20-Z20 -> 5 | AC20: 7.35 | AD20: 6.85 | AE20: =AD20-AC20 -> -0.5 | AF20: 52 | AG20: 59.6 | AH20: =AG20-AF20 -> 7.6
A21: 10 | B21: Huỳnh Văn | C21: Hùng | D21: 1990 | E21: 4.65 | F21: 4.27 | G21: =F21-E21 -> -0.38 | H21: 58 | I21: 67 | J21: =I21-H21 -> 9 | K21: 7.97 | L21: 8.81 | M21: =L21-K21 -> 0.84 | N21: 264 | O21: 281 | P21: =O21-N21 -> 17 | Q21: 2863 | R21: 2935 | S21: =R21-Q21 -> 72 | T21: 21.89 | U21: 21.14 | V21: =U21-T21 -> -0.75 | W21: 8.57 | X21: 8.25 | Y21: =X21-W21 -> -0.32 | Z21: 17 | AA21: 23 | AB21: =AA21-Z21 -> 6 | AC21: 6.45 | AD21: 6.23 | AE21: =AD21-AC21 -> -0.22 | AF21: 56 | AG21: 66 | AH21: =AG21-AF21 -> 10
A22: 11 | B22: Phạm Quốc | C22: Dương | D22: 1990 | E22: 4.51 | F22: 4.18 | G22: =F22-E22 -> -0.33 | H22: 56 | I22: 64 | J22: =I22-H22 -> 8 | K22: 7.8 | L22: 8.57 | M22: =L22-K22 -> 0.77 | N22: 268 | O22: 287 | P22: =O22-N22 -> 19 | Q22: 2873 | R22: 2959 | S22: =R22-Q22 -> 86 | T22: 21.85 | U22: 21.12 | V22: =U22-T22 -> -0.73 | W22: 8.38 | X22: 8.05 | Y22: =X22-W22 -> -0.33 | Z22: 19 | AA22: 26 | AB22: =AA22-Z22 -> 7 | AC22: 6.51 | AD22: 6.18 | AE22: =AD22-AC22 -> -0.33 | AF22: 55 | AG22: 64.5 | AH22: =AG22-AF22 -> 9.5
A23: 12 | B23: Tăng Linh | C23: Tâm | D23: 1991 | E23: 4.53 | F23: 4.19 | G23: =F23-E23 -> -0.34 | H23: 60 | I23: 67 | J23: =I23-H23 -> 7 | K23: 7.85 | L23: 8.72 | M23: =L23-K23 -> 0.87 | N23: 270 | O23: 290 | P23: =O23-N23 -> 20 | Q23: 2880 | R23: 2952 | S23: =R23-Q23 -> 72 | T23: 22.07 | U23: 21.12 | V23: =U23-T23 -> -0.95 | W23: 8.58 | X23: 8.25 | Y23: =X23-W23 -> -0.33 | Z23: 19 | AA23: 25 | AB23: =AA23-Z23 -> 6 | AC23: 7.52 | AD23: 6.94 | AE23: =AD23-AC23 -> -0.58 | AF23: 60.5 | AG23: 71 | AH23: =AG23-AF23 -> 10.5
... A27: 16 | B27: Trần Thanh | C27: Sơn | D27: 1992 | E27: 4.53 | F27: 4.15 | G27: =F27-E27 -> -0.38 | H27: 62 | I27: 69 | J27: =I27-H27 -> 7 | K27: 7.93 | L27: 8.77 | M27: =L27-K27 -> 0.84 | N27: 268 | O27: 290 | P27: =O27-N27 -> 22 | Q27: 2897 | R27: 2969 | S27: =R27-Q27 -> 72 | T27: 22.07 | U27: 21.15 | V27: =U27-T27 -> -0.92 | W27: 8.42 | X27: 8 | Y27: =X27-W27 -> -0.42 | Z27: 18 | AA27: 25 | AB27: =AA27-Z27 -> 7 | AC27: 6.78 | AD27: 6.23 | AE27: =AD27-AC27 -> -0.55 | AF27: 61 | AG27: 71 | AH27: =AG27-AF27 -> 10
B29: Giá trị trung bình | E29: =AVERAGE(E12:E27) -> 4.524375 | F29: =AVERAGE(F12:F27) -> 4.205625 | G29: =AVERAGE(G12:G27) -> -0.31875 | H29: =AVERAGE(H12:H27) -> 59.625 | I29: =AVERAGE(I12:I27) -> 67.0625 | J29: =AVERAGE(J12:J27) -> 7.4375 | K29: =AVERAGE(K12:K27) -> 7.7914375 | L29: =AVERAGE(L12:L27) -> 8.54625 | ... AH29: =AVERAGE(AH12:AH27) -> 9.6625
B30: Độ lệch chuẩn | D30: S | E30: =STDEVP(E12:E27) -> 0.10161009 | F30: =STDEVP(F12:F27) -> 0.10452086 | G30: =STDEVP(G12:G27) -> 0.04662014 | H30: =STDEVP(H12:H27) -> 3.4072533 | I30: =STDEVP(I12:I27) -> 2.1928506 | J30: =STDEVP(J12:J27) -> 1.6189792 | K30: =STDEVP(K12:K27) -> 0.16829215 | L30: =STDEVP(L12:L27) -> 0.2152288 | ... AH30: =STDEVP(AH12:AH27) -> 2.109169
B31: Hệ số biến thiên | D31: Cv | E31: =(E30/E29)*100 -> 2.2458369 | F31: =(F30/F29)*100 -> 2.4852633 | H31: =(H30/H29)*100 -> 5.7144709 | I31: =(I30/I29)*100 -> 3.2698611 | K31: =(K30/K29)*100 -> 2.1599627 | L31: =(L30/L29)*100 -> 2.5184005 | N31: =(N30/N29)*100 -> 2.6450109 | O31: =(O30/O29)*100 -> 3.6339243 | Q31: =(Q30/Q29)*100 -> 0.62203237 | R31: =(R30/R29)*100 -> 0.58779501 | T31: =(T30/T29)*100 -> 4.251794 | U31: =(U30/U29)*100 -> 3.6147088 | W31: =(W30/W29)*100 -> 5.1574032 | X31: =(X30/X29)*100 -> 4.8169034 | Z31: =(Z30/Z29)*100 -> 6.195847 | AA31: =(AA30/AA29)*100 -> 5.4837738 | AC31: =(AC30/AC29)*100 -> 7.8598648 | AD31: =(AD30/AD29)*100 -> 5.9866488 | AF31: =(AF30/AF29)*100 -> 7.6722114 | AG31: =(AG30/AG29)*100 -> 6.9729193
B32: Sai số tương đối | D32: ع | E32: =(2.12*E30)/(E29*16^(1/2)) -> 0.011902936 | F32: =(2.12*F30)/(F29*16^(1/2)) -> 0.013171896 | H32: =(2.12*H30)/(H29*16^(1/2)) -> 0.030286696 | I32: =(2.12*I30)/(I29*16^(1/2)) -> 0.017330264 | K32: =(2.12*K30)/(K29*16^(1/2)) -> 0.011447802 | L32: =(2.12*L30)/(L29*16^(1/2)) -> 0.013347523 | N32: =(2.12*N30)/(N29*16^(1/2)) -> 0.014018558 | O32: =(2.12*O30)/(O29*16^(1/2)) -> 0.019259799 | Q32: =(2.12*Q30)/(Q29*16^(1/2)) -> 0.0032967715 | R32: =(2.12*R30)/(R29*16^(1/2)) -> 0.0031153135 | T32: =(2.12*T30)/(T29*16^(1/2)) -> 0.022534508 | U32: =(2.12*U30)/(U29*16^(1/2)) -> 0.019157956 | W32: =(2.12*W30)/(W29*16^(1/2)) -> 0.027334237 | X32: =(2.12*X30)/(X29*16^(1/2)) -> 0.025529588 | Z32: =(2.12*Z30)/(Z29*16^(1/2)) -> 0.032837989 | AA32: =(2.12*AA30)/(AA29*16^(1/2)) -> 0.029064001 | AC32: =(2.12*AC30)/(AC29*16^(1/2)) -> 0.041657283 | AD32: =(2.12*AD30)/(AD29*16^(1/2)) -> 0.031729239 | AF32: =(2.12*AF30)/(AF29*16^(1/2)) -> 0.04066272 | AG32: =(2.12*AG30)/(AG29*16^(1/2)) -> 0.036956472
B33: T STUDENT | E33: =ABS(G29)/G30*16^(1/2) -> 27.348695 | H33: =ABS(J29)/J30*16^(1/2) -> 18.375776 | K33: =ABS(M29)/M30*16^(1/2) -> 38.43014 | N33: =ABS(P29)/P30*16^(1/2) -> 18.134632 | Q33: =ABS(S29)/S30*16^(1/2) -> 42.367596 | T33: =ABS(V29)/V30*16^(1/2) -> 11.007182 | W33: =ABS(Y29)/Y30*16^(1/2) -> 11.863321 | Z33: =ABS(AB29)/AB30*16^(1/2) -> 43.19426 | AC33: =ABS(AE29)/AE30*16^(1/2) -> 8.2520822 | AF33: =ABS(AH29)/AH30*16^(1/2) -> 18.324753
B34: W | D34: % | E34: =ABS(100*(F29-E29)/(0.5*(F29+E29))) -> 7.3024055 | H34: =ABS(100*(I29-H29)/(0.5*(I29+H29))) -> 11.74149 | K34: =ABS(100*(L29-K29)/(0.5*(L29+K29))) -> 9.2401388 | N34: =ABS(100*(O29-N29)/(0.5*(O29+N29))) -> 7.0556309 | Q34: =ABS(100*(R29-Q29)/(0.5*(R29+Q29))) -> 2.8229347 | T34: =ABS(100*(U29-T29)/(0.5*(U29+T29))) -> 3.8774596 | W34: =ABS(100*(X29-W29)/(0.5*(X29+W29))) -> 4.0936317 | Z34: =ABS(100*(AA29-Z29)/(0.5*(AA29+Z29))) -> 31.288808 | AC34: =ABS(100*(AD29-AC29)/(0.5*(AD29+AC29))) -> 7.8510133 | AF34: =ABS(100*(AG29-AF29)/(0.5*(AG29+AF29))) -> 15.547064
B35: HỆ SỐ TIN CẬY (RSQ) | E35: =RSQ(E12:E27,F12:F27) -> 0.80653855 | H35: =RSQ(H12:H27,I12:I27) -> 0.85246104 | K35: =RSQ(K12:K27,L12:L27) -> 0.89341619 | N35: =RSQ(N12:N27,O12:O27) -> 0.90280712 | Q35: =RSQ(Q12:Q27,R12:R27) -> 0.81585398 | T35: =RSQ(T12:T27,U12:U27) -> 0.91331132 | W35: =RSQ(W12:W27,X12:X27) -> 0.93627515 | Z35: =RSQ(Z12:Z27,AA12:AA27) -> 0.79586228 | AC35: =RSQ(AC12:AC27,AD12:AD27) -> 0.82451912 | AF35: =RSQ(AF12:AF27,AG12:AG27) -> 0.79837551
B36: W TRUNG BÌNH | E36: =AVERAGE(E34:AH34) -> 10.082058
E37: Chạy 30m XPC
D38: Ban đầu | E38: =E29 -> 4.524375
D39: Sau 1 năm tập luyện | E39: =F29 -> 4.205625 | R39: =E35 -> 0.80653855 | S39: =H35 -> 0.85246104 | T39: =K35 -> 0.89341619 | U39: =N35 -> 0.90280712 | V39: =Q35 -> 0.81585398 | W39: =T35 -> 0.91331132 | X39: =W35 -> 0.93627515 | Y39: =Z35 -> 0.79586228 | Z39: =AC35 -> 0.82451912 | AA39: =AF35 -> 0.79837551
D49: Bật cao tại chỗ | E49: Bật xa 3 bước liên tục (cm) | F49: Bật xa tại chỗ
C50: Ban đầu | D50: =H29 -> 59.625 | E50: =K29 -> 7.7914375 | F50: =N29 -> 266.625
C51: Sau 1 năm tập luyện | D51: =I29 -> 67.0625 | E51: =L29 -> 8.54625 | F51: =O29 -> 286.125
D59: Chạy cây thông (giây) | E59: Chạy 9.3.6.3.9
C60: Ban đầu | D60: =T29 -> 22.034375 | E60: =AC29 -> 7.115
C61: Sau 1 năm tập luyện | D61: =U29 -> 21.19625 | E61: =AD29 -> 6.5775
D63: Ban đầu | E63: Sau 1 năm tập luyện
C64: Chạy 12 phút (Cooper) | D64: =Q29 -> 2876.875 | E64: =R29 -> 2959.25
D72: Ban đầu | E72: Sau 1 năm tập luyện
C73: Bóp lực kế tay thuận | D73: =AF29 -> 57.31875 | E73: =AG29 -> 66.98125
D83: Ban đầu | E83: Sau 1 năm tập luyện
C84: Chạy con thoi 4x10m (giây) | D84: =W29 -> 8.678125 | E84: =X29 -> 8.33
D97: Ban đầu | E97: Sau 1 năm tập luyện
C98: Đứng gập thân (cm) | D98: =Z29 -> 17.40625 | E98: =AA29 -> 23.8625
B112: Chạy 30m XPC (giây) | C112: Chạy 9.3.6.3.9 (giây) | D112: Bật cao tại chỗ (cm) | E112: Bật xa 3 bước liên tục (cm) | F112: Bật xa tại chỗ (cm) | G112: Bóp lực kế tay thuận (kg) | H112: Chạy cây thông (giây) | I112: Chạy con thoi 4x10m (giây) | J112: Đứng gập thân (cm) | K112: Chạy 12 phút (mét)
B115: =E34 -> 7.3024055 | C115: =AC34 -> 7.8510133 | D115: =H34 -> 11.74149 | E115: =K34 -> 9.2401388 | F115: =N34 -> 7.0556309 | G115: =AF34 -> 15.547064 | H115: =T34 -> 3.8774596 | I115: =W34 -> 4.0936317 | J115: =Z34 -> 31.288808 | K115: =Q34 -> 2.8229347
